BEGIN:VCALENDAR
VERSION:2.0
PRODID:-//Obstetrics &amp; Gynecology//NONSGML Events//EN
CALSCALE:GREGORIAN
X-ORIGINAL-URL:https://obgyn.wustl.edu/events/
X-WR-CALDESC:Obstetrics &amp; Gynecology - Events
BEGIN:VEVENT
UID:20210107T1617Z-1610036227.9218-EO-11660-1@172.23.128.19
STATUS:CONFIRMED
DTSTAMP:20260417T233244Z
CREATED:20210107T160802Z
LAST-MODIFIED:20210107T160802Z
DTSTART;TZID=America/Chicago:20210128T120000
DTEND;TZID=America/Chicago:20210129T120000
SUMMARY: 3rd Annual CRepHS Symposium
DESCRIPTION: Registration Open! Please visit the Symposium site for more in
 formation »
X-ALT-DESC;FMTTYPE=text/html: <p>Registration Open!</p><p><a href="https://
 reproductivesciences.wustl.edu/3rd-annual-crephs-symposium/">Please visit t
 he Symposium site for more information »</a></p>
CATEGORIES:Annual Events,CRepHS Basic Science Seminars,Special Seminar,Visiting Speakers
LOCATION:Online
GEO:0.000000;0.000000
ORGANIZER;CN="Magdalena":MAILTO:mdnelson@wustl.edu
URL;VALUE=URI:https://obgyn.wustl.edu/events/event/3rd-annual-crephs-sympos
 ium/
END:VEVENT
BEGIN:VTIMEZONE
TZID:America/Chicago
BEGIN:STANDARD
TZOFFSETFROM:-0500
TZOFFSETTO:-0600
DTSTART:20201101T070000
TZNAME:CST
END:STANDARD
END:VTIMEZONE
END:VCALENDAR
