BEGIN:VCALENDAR
VERSION:2.0
PRODID:-//Obstetrics &amp; Gynecology//NONSGML Events//EN
CALSCALE:GREGORIAN
X-ORIGINAL-URL:https://obgyn.wustl.edu/events/
X-WR-CALDESC:Obstetrics &amp; Gynecology - Events
BEGIN:VEVENT
UID:20181130T1906Z-1543604802.9116-EO-7609-1@172.23.128.18
STATUS:CONFIRMED
DTSTAMP:20260420T225732Z
CREATED:20181130T190127Z
LAST-MODIFIED:20181130T190127Z
DTSTART;VALUE=DATE:20191003
DTEND;VALUE=DATE:20191005
SUMMARY: 45th Annual OBGYN Symposium
X-ALT-DESC;FMTTYPE=text/html: 
CATEGORIES:Annual Events
LOCATION:EPNEC Center
GEO:38.636879;-90.262400
ORGANIZER;CN="Marcy":MAILTO:marcylivingston@wustl.edu
URL;VALUE=URI:https://obgyn.wustl.edu/events/event/45th-annual-obgyn-sympos
 ium/
END:VEVENT
BEGIN:VTIMEZONE
TZID:America/Chicago
BEGIN:DAYLIGHT
TZOFFSETFROM:-0600
TZOFFSETTO:-0500
DTSTART:20190310T080000
TZNAME:CDT
END:DAYLIGHT
END:VTIMEZONE
END:VCALENDAR
