BEGIN:VCALENDAR
VERSION:2.0
PRODID:-//Obstetrics &amp; Gynecology//NONSGML Events//EN
CALSCALE:GREGORIAN
X-ORIGINAL-URL:https://obgyn.wustl.edu/events/
X-WR-CALDESC:Obstetrics &amp; Gynecology - Events
BEGIN:VEVENT
UID:20221229T2217Z-1672352269.9473-EO-26300-1@172.23.128.18
STATUS:CONFIRMED
DTSTAMP:20260423T020731Z
CREATED:20221229T221555Z
LAST-MODIFIED:20230810T175231Z
DTSTART;TZID=America/Chicago:20231019T080000
DTEND;TZID=America/Chicago:20231020T173000
SUMMARY: 48th Annual OB/GYN Symposium
DESCRIPTION: Registration is OPEN!   48th Annual Washington University Obst
 etrics and Gynecology Symposium Eric P. Newman Education Center @ Washingto
 n University Medical Center October 19\, 2023 12:00 AM – October 20\, 2023 
 11:59 PM Coordinator Michelle R Padgett\, MS\, ATC\, Washington University 
 CME Agenda This conference is offered as an in-person course only. Thursday
 \, October 19\, 2023   7:30am Registration […]
X-ALT-DESC;FMTTYPE=text/html: <p>Registration is <a href="https://cme.wustl
 .edu/activity/10924" target="_blank" rel="noopener">OPEN</a>!</p><p> </p><d
 iv id="activityInfo"><h1>48th Annual Washington University Obstetrics and G
 ynecology Symposium</h1><p>Eric P. Newman Education Center @ Washington Uni
 versity Medical Center<br /><span class="datetime"><span class="date">Octob
 er 19\, 2023</span> <span class="time">12:00 AM</span> - <span class="date"
 >October 20\, 2023</span> <span class="time">11:59 PM</span></span></p><div
  class="speakers"><h4 class="eventspeakers">Coordinator</h4><p><em class="s
 peakername">Michelle R Padgett\, MS\, ATC</em>\, Washington University CME<
 /div></div><div id="activityText"><hr /><p><strong>Agenda</strong></p><p><s
 trong>This conference is offered as an in-person course only.</strong></p><
 table border="0" cellspacing="1" cellpadding="1" align="left"><tbody><tr><t
 d colspan="2"><strong>Thursday\, October 19\, 2023</strong></td></tr><tr><t
 d><strong>  7:30am</strong></td><td><em>Registration & Continental Breakfas
 t </em></td></tr><tr><td><strong>  8:10    </strong></td><td><strong>Welcom
 e - </strong>Makeba Williams\, MD\, NCMP</td></tr><tr><td colspan="2"><stro
 ng>Session I</strong></td></tr><tr><td><strong>  8:15</strong></td><td><b>R
 OY PETRIE MEMORIAL LECTURE:<br />Artificial Intelligence in Obstetrics and 
 Gynecology: our Brave New World</b><br />Melissa S. Wong\, MD\, MHDS</td></
 tr><tr><td><strong>  9:00</strong></td><td><b>JAMES R. SCHREIBER LECTURE:<b
 r />Prenatal Care: is it Time to Take a New PATH?</b><br />Alex Peahl\, MD\
 , MS</td></tr><tr><td><strong>  9:45</strong></td><td><strong>Beyond the Fe
 male Athlete Triad and into the RED-S (Relative Energy Deficiency in Sports
 )</strong><br />Maggie Dwiggins\, MD\, MS</td></tr><tr><td><strong>10:30</s
 trong></td><td><em>Refreshment Break<br />(Please consider visiting the exh
 ibitors in the foyer)</em></td></tr><tr><td><strong>11:00    </strong></td>
 <td><b>Innovative EC delivery and Sifting through Social Media Myths of Rep
 roductive Health</b><br />Susan Mitchell-Derenski APRN\, MSN\, WHNP-BC</td>
 </tr><tr><td><strong>11:45</strong></td><td><strong>To GRAIL or Not to GRAI
 L: The Debate of Multi-Cancer Early Detection Blood Testing</strong><br />D
 avid G. Mutch\, MD & Carolyn McCourt\, MD</td></tr><tr><td><strong>12:15pm 
    </strong></td><td><em>Luncheon (Great Rooms)</em></td></tr><tr><td colsp
 an="2"><strong>Session II</strong></td></tr><tr><td><strong>  1:00</strong>
 </td><td><strong>PATH in Action: Bringing Tailored Prenatal Care to your Pa
 tients</strong><br />Alex Peahl\, MD\, MSc</td></tr><tr><td><strong>  1:45<
 /strong></td><td><strong>Use of Personal-Device-Based Point-of-Care-Ultraso
 und<br />(P-POCUS) in Clinical Care</strong><br />Melissa S. Wong\, MD\, MH
 DS & Cecilia Leggett\, MD</td></tr><tr><td><strong>  2:30    </strong></td>
 <td><em>Refreshment Break<br />(Please consider visiting the exhibitors in 
 the foyer)</em></td></tr><tr><td><strong>  2:45    </strong></td><td><stron
 g>VIPER: Reliable Approach to Laparoscopic Management of Cornual Ectopic Pr
 egnancy </strong><br />Katie de Souza\, MD</td></tr><tr><td><strong>  3:30<
 /strong></td><td><strong>The Evidence Based L&D Unit</strong><br />Jenna Mi
 tchell\, MD\, Cory Miller\, MD & Ashley Veade\, MD</td></tr><tr><td><strong
 >  4:15</strong></td><td><em> Course adjourns</em></td></tr><tr><td><strong
 >  4:15</strong></td><td><i>ACOG Missouri Section Reception<br />at Eric P.
  Newman Education Center</i></td></tr><tr><td>  <strong>5:30</strong></td><
 td><i>Reception adjourns</i></td></tr><tr><td colspan="2"><b>Friday\, Octob
 er 20\, 2023</b></td></tr><tr><td><strong>  7:30am</strong></td><td><em>Con
 tinental Breakfast </em></td></tr><tr><td colspan="2"><strong>Session III</
 strong></td></tr><tr><td><strong>  8:00</strong></td><td><strong>Cannabinoi
 ds and Pregnancy: What's the Buzz?</strong><br />Amanda Zofkie\, MD & Chris
 topher McPherson\, Pharm D</td></tr><tr><td><strong>  8:45</strong></td><td
 ><strong>New Developments in Menopause Management</strong><br />Laura Bozzu
 to\, MD\, MS</td></tr><tr><td><strong>  9:30</strong></td><td><b>The Weigh 
 In: The Role of Obesity Management in Fertility Care</b><br />Patricia Jime
 nez\, MD</td></tr><tr><td><strong>10:15</strong></td><td><em>Refreshment Br
 eak<br />(Please consider visiting the exhibitors in the foyer)</em></td></
 tr><tr><td><strong>10:45    </strong></td><td><strong>Urogynecology Pearls 
 in 2023</strong><br />Sara C. Wood\, MD\, MHPE\, FACOG</td></tr><tr><td><st
 rong>11:30</strong></td><td><strong>New Technologies to Measure Uterine Act
 ivity</strong><br />Yong Wang\, PhD</td></tr><tr><td><strong>12:15pm</stron
 g></td><td><em>Luncheon (Great Rooms)</em></td></tr><tr><td colspan="2"><st
 rong>Session IV</strong></td></tr><tr><td><strong>  1:00</strong></td><td><
 strong>GYN Care for Breast Cancer Survivors</strong><br />Laura Bozzuto\, M
 D\, MS</td></tr><tr><td><strong>  1:45</strong></td><td><strong>To the Womb
  and Beyond: Advances in Fetoscopic Surgery</strong><br />Katherine Bligard
 \, MD\, MA</td></tr><tr><td><strong>  2:30</strong></td><td><strong>Updates
  from ACOG</strong></td></tr><tr><td><strong>  3:15</strong></td><td><em>Ad
 journ</em></td></tr></tbody></table></div>
CATEGORIES:Annual Events,Nelson Alumni Society Events
ORGANIZER;CN="Allison":MAILTO:a.wyrsch@wustl.edu
URL;VALUE=URI:https://obgyn.wustl.edu/events/event/48th-annual-ob-gyn-sympo
 sium/
END:VEVENT
BEGIN:VTIMEZONE
TZID:America/Chicago
BEGIN:DAYLIGHT
TZOFFSETFROM:-0600
TZOFFSETTO:-0500
DTSTART:20230312T080000
TZNAME:CDT
END:DAYLIGHT
END:VTIMEZONE
END:VCALENDAR
