BEGIN:VCALENDAR
VERSION:2.0
PRODID:-//Obstetrics &amp; Gynecology//NONSGML Events//EN
CALSCALE:GREGORIAN
X-ORIGINAL-URL:https://obgyn.wustl.edu/events/
X-WR-CALDESC:Obstetrics &amp; Gynecology - Events
BEGIN:VEVENT
UID:20221214T2034Z-1671050098.1427-EO-23166-1@172.23.128.18
STATUS:CONFIRMED
DTSTAMP:20260423T144825Z
CREATED:20221214T203100Z
LAST-MODIFIED:20221214T203100Z
DTSTART;TZID=America/Chicago:20230201T080000
DTEND;TZID=America/Chicago:20230201T080000
SUMMARY: Black History Month
DESCRIPTION: Read more here. 
X-ALT-DESC;FMTTYPE=text/html: <h4><a href="https://diversity.wustl.edu/blac
 k-history-month/" target="_blank" rel="noopener"><strong>Read more here. </
 strong></a></h4>
CATEGORIES:Awareness,IDEA2
ORGANIZER;CN="Allison":MAILTO:a.wyrsch@wustl.edu
URL;VALUE=URI:https://obgyn.wustl.edu/events/event/black-history-month/
END:VEVENT
BEGIN:VTIMEZONE
TZID:America/Chicago
BEGIN:STANDARD
TZOFFSETFROM:-0500
TZOFFSETTO:-0600
DTSTART:20221106T070000
TZNAME:CST
END:STANDARD
END:VTIMEZONE
END:VCALENDAR
