BEGIN:VCALENDAR
VERSION:2.0
PRODID:-//Obstetrics &amp; Gynecology//NONSGML Events//EN
CALSCALE:GREGORIAN
X-ORIGINAL-URL:https://obgyn.wustl.edu/events/
X-WR-CALDESC:Obstetrics &amp; Gynecology - Events
BEGIN:VEVENT
UID:20230330T1846Z-1680202012.4456-EO-28769-1@172.23.128.18
STATUS:CONFIRMED
DTSTAMP:20260424T200152Z
CREATED:20230330T183123Z
LAST-MODIFIED:20230330T183123Z
DTSTART;TZID=America/Chicago:20230415T110000
DTEND;TZID=America/Chicago:20230415T150000
SUMMARY: BMHW: Birthing Justice Screening and Panel Discussion
DESCRIPTION: Jamaa Birth Village in partnership with Washington University 
 – Birthing Justice Screening and Panel Discussion Washington University Bro
 wn School – When: Saturday\, April 15th 11 am-3 pm Where: 1 Brookings Dr • 
 St. Louis\, MO Register Here
X-ALT-DESC;FMTTYPE=text/html: <p class="p1">Jamaa Birth Village in partners
 hip with Washington University -</p><p class="p1">Birthing Justice Screenin
 g and Panel Discussion</p><p class="p1">Washington University Brown School<
 /p><p>-</p><p><strong>When: </strong>Saturday\, April 15th 11 am-3 pm</p><p
 ><strong>Where</strong>: 1 Brookings Dr • St. Louis\, MO</p><p><a href="htt
 ps://www.eventbrite.com/d/mo--st-louis/jamaa-birth-village/"><strong>Regist
 er Here</strong></a></p>
CATEGORIES:Community Events,IDEA2
ORGANIZER;CN="Allison":MAILTO:a.wyrsch@wustl.edu
URL;VALUE=URI:https://obgyn.wustl.edu/events/event/bmhw-birthing-justice-sc
 reening-and-panel-discussion/
END:VEVENT
BEGIN:VTIMEZONE
TZID:America/Chicago
BEGIN:DAYLIGHT
TZOFFSETFROM:-0600
TZOFFSETTO:-0500
DTSTART:20230312T080000
TZNAME:CDT
END:DAYLIGHT
END:VTIMEZONE
END:VCALENDAR
