BEGIN:VCALENDAR
VERSION:2.0
PRODID:-//Obstetrics &amp; Gynecology//NONSGML Events//EN
CALSCALE:GREGORIAN
X-ORIGINAL-URL:https://obgyn.wustl.edu/events/
X-WR-CALDESC:Obstetrics &amp; Gynecology - Events
BEGIN:VEVENT
UID:20221011T1746Z-1665510372.2108-EO-20344-1@172.23.128.18
STATUS:CONFIRMED
DTSTAMP:20260421T123645Z
CREATED:20221011T174437Z
LAST-MODIFIED:20250311T162612Z
DTSTART;TZID=America/Chicago:20221130T183000
DTEND;TZID=America/Chicago:20221130T203000
SUMMARY: Book Club
DESCRIPTION: Please RSVP Here When: Wednesday\, November 30 – 6:30-8:30 PM 
 Where: 4209 Hartford St\, St. Louis MO 63116 Take my Hand\, by Dolen Perkin
 s-Valdez “Inspired by true events that rocked the nation\, a searing and co
 mpassionate new novel about a Black nurse in post-segregation Alabama who b
 lows the whistle on a terrible injustice done to […]
X-ALT-DESC;FMTTYPE=text/html: <div><span class="x_ContentPasted3">Please RS
 VP <a href="https://forms.office.com/Pages/ResponsePage.aspx?id=taPMTM1xbU6
 XS02b65bG1ixH97qWyR1Hu4Y9Z1K1af5UMTZNSFQ0UFBOVlpPTjRBTDdPMlI5SzhSWS4u&origi
 n=Invitation&channel=0">Here</a></span></div><div></div><div class="x_eleme
 ntToProof elementToProof"><b>When: </b><b>Wednesday\, November 30 - 6:30-8:
 30 PM </b></div><div class="x_elementToProof elementToProof"><b>Where: 4209
  Hartford St\, St. Louis MO 63116</b></div><div></div><h3 class="x_elementT
 oProof elementToProof"><strong><i>Take my Hand</i>\, by Dolen Perkins-Valde
 z</strong></h3><div class="x_elementToProof elementToProof"><i>"<span class
 ="x_a-text-bold x_ContentPasted0">Inspired by true events that rocked the n
 ation\, a searing and compassionate new novel about a Black nurse in post-s
 egregation Alabama who blows the whistle on a terrible injustice done to he
 r patients."</span></i></div><div class="x__Entity x__EType_OWALinkPreview 
 x__EId_OWALinkPreview_1 x__EReadonly_1"></div><div class="x_elementToProof"
 ><span style="text-decoration: underline\;"><strong>Get the book:</strong><
 /span></div><div class="x_elementToProof x_ContentPasted1"><strong>Free</st
 rong> from <a href="https://slpl.bibliocommons.com/v2/record/S198C939973">S
 TL public library</a> or</div><div class="x_elementToProof x_ContentPasted1
 "><span class="x_ContentPasted2"><strong>Purchase</strong> (hard copies\, a
 udiobooks\, and e-books) from <a href="https://www.amazon.com/Take-My-Hand-
 Dolen-Perkins-Valdez/dp/0593337697">Amazon</a></span></div><div class="x_el
 ementToProof"></div><div class="x_elementToProof">We hope to see you there\
 , as <i>this book will not only better our knowledge regarding the injustic
 es of the past but will also prevent history from repeating itself in our f
 uture practices.</i></div><div class="x_elementToProof"><i> </i></div><div 
 class="x_elementToProof elementToProof"><span class="x_ContentPasted3">Plea
 se RSVP <a href="https://forms.office.com/r/ckim3MMukv">Here</a></span></di
 v>
CATEGORIES:IDEA2,Residency 2
ORGANIZER;CN="Marcy":MAILTO:marcylivingston@wustl.edu
URL;VALUE=URI:https://obgyn.wustl.edu/events/event/book-club/
ATTACH;FMTTYPE=image/jpeg:https://obgyn.wustl.edu/app/uploads/2022/10/DEIA-Book-Club-2022-Flyer.jpg
END:VEVENT
BEGIN:VTIMEZONE
TZID:America/Chicago
BEGIN:STANDARD
TZOFFSETFROM:-0500
TZOFFSETTO:-0600
DTSTART:20221106T070000
TZNAME:CST
END:STANDARD
END:VTIMEZONE
END:VCALENDAR
