BEGIN:VCALENDAR
VERSION:2.0
PRODID:-//Obstetrics &amp; Gynecology//NONSGML Events//EN
CALSCALE:GREGORIAN
X-ORIGINAL-URL:https://obgyn.wustl.edu/events/
X-WR-CALDESC:Obstetrics &amp; Gynecology - Events
BEGIN:VEVENT
UID:20220217T1812Z-1645121535.515-EO-47828-1@172.23.128.19
STATUS:CONFIRMED
DTSTAMP:20260424T014848Z
CREATED:20221215T194458Z
LAST-MODIFIED:20221215T194458Z
DTSTART;TZID=America/Chicago:20220308T123000
DTEND;TZID=America/Chicago:20220308T133000
SUMMARY: Cancelled – Community Discussions: WUSM’s Commitment to Anti-Racis
 m Statement
DESCRIPTION: Hosted by the Office of Diversity\, Equity and Inclusion In ea
 rly 2021\, the Executive Faculty of Washington University School of Medicin
 e approved a “WUSM Leadership Commitment to Anti-Racism Statement\,” naming
  racism as a public health crisis and committing to address racism within o
 ur institution\, policies\, and educational frameworks. The commitment incl
 udes a campus wide anti-racism […]
X-ALT-DESC;FMTTYPE=text/html: <p>Hosted by the Office of Diversity\, Equity
  and Inclusion</p><p>In early 2021\, the Executive Faculty of Washington Un
 iversity School of Medicine approved a “WUSM Leadership Commitment to Anti-
 Racism Statement\,” naming racism as a public health crisis and committing 
 to address racism within our institution\, policies\, and educational frame
 works.</p><p>The commitment includes a campus wide anti-racism curriculum a
 imed at building the capacity of our community to do the work of anti-racis
 m as individuals and as an institution.</p><p>Our office is hosting one hou
 r community discussions for WUSM community members to learn more and talk a
 bout the statement\, what it means to them and how you can be involved in t
 his important transformation initiative. These community discussions will b
 e hosted on an ongoing basis\, and are also available by department request
 </p><p>[formidable id="290"]</p><p><strong>Individuals with disabilities ar
 e encouraged to attend all Washington University School of Medicine sponsor
 ed events.  If you are a person with a disability who requires a reasonable
  accommodation in order to participate in this event\, at least one week be
 fore the event\, please contact the Washington University School of Medicin
 e Office of Diversity\, Equity and Inclusion in advance at 314-273-2809 or 
 </strong><a href="mailto:MedDEI@wustl.edu"><strong>MedDEI@wustl.edu</strong
 ></a><strong>.</strong></p>
LOCATION:Zoom (Virtual)
GEO:38.635102;-90.262792
ORGANIZER;CN="Marcy":MAILTO:marcylivingston@wustl.edu
URL;VALUE=URI:https://obgyn.wustl.edu/events/event/cancelled-community-disc
 ussions-wusms-commitment-to-anti-racism-statement/
END:VEVENT
BEGIN:VTIMEZONE
TZID:America/Chicago
BEGIN:STANDARD
TZOFFSETFROM:-0500
TZOFFSETTO:-0600
DTSTART:20211107T070000
TZNAME:CST
END:STANDARD
END:VTIMEZONE
END:VCALENDAR
