BEGIN:VCALENDAR
VERSION:2.0
PRODID:-//Obstetrics &amp; Gynecology//NONSGML Events//EN
CALSCALE:GREGORIAN
X-ORIGINAL-URL:https://obgyn.wustl.edu/events/
X-WR-CALDESC:Obstetrics &amp; Gynecology - Events
BEGIN:VEVENT
UID:20170331T1715Z-1490980545.3297-EO-2325-1@172.21.70.58
STATUS:CONFIRMED
DTSTAMP:20260417T233158Z
CREATED:20160815T220845Z
LAST-MODIFIED:20170406T154423Z
DTSTART;TZID=America/Chicago:20160916T090000
DTEND;TZID=America/Chicago:20160916T100000
SUMMARY: Celia Santi\, MD\, PhD
DESCRIPTION: Celia Santi\, MD\, PhD Washington University Host/Lab: Mysorek
 ar
X-ALT-DESC;FMTTYPE=text/html: <p>Celia Santi\, MD\, PhD<br />Washington Uni
 versity</p><p>Host/Lab: Mysorekar</p>
CATEGORIES:CRepHS Basic Science Seminars
LOCATION:BJCIH Conference Room 10AB
GEO:38.636692;-90.263454
ORGANIZER;CN="Catherine":MAILTO:cbetz@wustl.edu
URL;VALUE=URI:https://obgyn.wustl.edu/events/event/celia-santi-md-phd/
END:VEVENT
BEGIN:VTIMEZONE
TZID:America/Chicago
BEGIN:DAYLIGHT
TZOFFSETFROM:-0600
TZOFFSETTO:-0500
DTSTART:20160313T080000
TZNAME:CDT
END:DAYLIGHT
END:VTIMEZONE
END:VCALENDAR
