BEGIN:VCALENDAR
VERSION:2.0
PRODID:-//Obstetrics &amp; Gynecology//NONSGML Events//EN
CALSCALE:GREGORIAN
X-ORIGINAL-URL:https://obgyn.wustl.edu/events/
X-WR-CALDESC:Obstetrics &amp; Gynecology - Events
BEGIN:VEVENT
UID:20220408T1800Z-1649440810.5308-EO-48140-1@172.23.128.19
STATUS:CONFIRMED
DTSTAMP:20260421T200040Z
CREATED:20221215T194504Z
LAST-MODIFIED:20221215T194504Z
DTSTART;TZID=America/Chicago:20220526T130000
DTEND;TZID=America/Chicago:20220526T140000
SUMMARY: Community Discussions #4: WUSM’s Commitment to Anti-Racism Stateme
 nt
DESCRIPTION: This session is hosted by the Office of Diversity\, Equity and
  Inclusion.  In early 2021\, the Executive Faculty of Washington University
  School of Medicine approved a “WUSM Leadership Commitment to Anti-Racism S
 tatement\,” naming racism as a public health crisis and committing to addre
 ss racism within our institution\, policies\, and educational frameworks. T
 he commitment includes a […]
X-ALT-DESC;FMTTYPE=text/html: <p>This session is hosted by the Office of Di
 versity\, Equity and Inclusion.  In early 2021\, the Executive Faculty of W
 ashington University School of Medicine approved a “WUSM Leadership Commitm
 ent to Anti-Racism Statement\,” naming racism as a public health crisis and
  committing to address racism within our institution\, policies\, and educa
 tional frameworks.</p><p>The commitment includes a campus wide anti-racism 
 curriculum aimed at building the capacity of our community to do the work o
 f anti-racism as individuals and as an institution.</p><p>Our office is hos
 ting one hour community discussions for WUSM community members to learn mor
 e and talk about the statement\, what it means to them and how you can be i
 nvolved in this important transformation initiative. These community discus
 sions will be hosted on an ongoing basis\, and are also available by depart
 ment request.</p><p>Please register to attend – [formidable id="317"]</p><p
 ><strong>Individuals with disabilities are encouraged to attend all Washing
 ton University School of Medicine sponsored events.  If you are a person wi
 th a disability who requires a reasonable accommodation in order to partici
 pate in this event\, at least one week before the event\, please contact th
 e Washington University School of Medicine Office of Diversity\, Equity and
  Inclusion in advance at 314-362-0347 or </strong><a href="mailto:MedDEI@wu
 stl.edu"><strong>MedDEI@wustl.edu</strong></a><strong>.</strong></p>
LOCATION:Zoom (Virtual)
GEO:38.635102;-90.262792
ORGANIZER;CN="Marcy":MAILTO:marcylivingston@wustl.edu
URL;VALUE=URI:https://obgyn.wustl.edu/events/event/community-discussions-4-
 wusms-commitment-to-anti-racism-statement/
END:VEVENT
BEGIN:VTIMEZONE
TZID:America/Chicago
BEGIN:DAYLIGHT
TZOFFSETFROM:-0600
TZOFFSETTO:-0500
DTSTART:20220313T080000
TZNAME:CDT
END:DAYLIGHT
END:VTIMEZONE
END:VCALENDAR
