BEGIN:VCALENDAR
VERSION:2.0
PRODID:-//Obstetrics &amp; Gynecology//NONSGML Events//EN
CALSCALE:GREGORIAN
X-ORIGINAL-URL:https://obgyn.wustl.edu/events/
X-WR-CALDESC:Obstetrics &amp; Gynecology - Events
BEGIN:VEVENT
UID:20231115T2014Z-1700079264.1005-EO-30378-1@172.23.128.18
STATUS:CONFIRMED
DTSTAMP:20260422T010848Z
CREATED:20231115T200750Z
LAST-MODIFIED:20231115T200750Z
DTSTART;TZID=America/Chicago:20240117T083000
DTEND;TZID=America/Chicago:20240118T170000
SUMMARY: CREOG in Training Exams
DESCRIPTION: Please contact our education team for more details!
X-ALT-DESC;FMTTYPE=text/html: <p>Please contact our education team for more
  details!</p>
CATEGORIES:Residency
ORGANIZER;CN="Allison":MAILTO:a.wyrsch@wustl.edu
URL;VALUE=URI:https://obgyn.wustl.edu/events/event/creog-in-training-exams/
END:VEVENT
BEGIN:VTIMEZONE
TZID:America/Chicago
BEGIN:STANDARD
TZOFFSETFROM:-0500
TZOFFSETTO:-0600
DTSTART:20231105T070000
TZNAME:CST
END:STANDARD
END:VTIMEZONE
END:VCALENDAR
