BEGIN:VCALENDAR
VERSION:2.0
PRODID:-//Obstetrics &amp; Gynecology//NONSGML Events//EN
CALSCALE:GREGORIAN
X-ORIGINAL-URL:https://obgyn.wustl.edu/events/
X-WR-CALDESC:Obstetrics &amp; Gynecology - Events
BEGIN:VEVENT
UID:20230505T1533Z-1683300819.0296-EO-29096-1@172.23.128.18
STATUS:CONFIRMED
DTSTAMP:20260420T124348Z
CREATED:20230505T152315Z
LAST-MODIFIED:20230505T152315Z
DTSTART;TZID=America/Chicago:20230526T090000
DTEND;TZID=America/Chicago:20230526T100000
SUMMARY: CRepHS Seminar: Amanda Compadre\, MD
DESCRIPTION: Hybrid Register for Zoom link » Amanda Compadre\, MD Gynecolog
 ic Oncology Fellow (PGY-5) Department of Obstetrics and Gynecology Washingt
 on University in St. Louis   Title: “RAD51 foci as a biomarker predictive o
 f platinum chemotherapy response in ovarian cancer” Host/Lab: Mullen View m
 ore information on Dr. Compadre’s research »
X-ALT-DESC;FMTTYPE=text/html: <p>Hybrid</p><p><a href="https://www.eventbri
 te.com/e/406449219557">Register for Zoom link »</a></p><p><b>Amanda Compadr
 e\, MD</b><br />Gynecologic Oncology Fellow (PGY-5)<br />Department of Obst
 etrics and Gynecology<br />Washington University in St. Louis</p><p> </p><p
 ><strong>Title: “RAD51 foci as a biomarker predictive of platinum chemother
 apy response in ovarian cancer”</strong></p><p>Host/Lab: Mullen</p><p><a hr
 ef="https://obgyn.wustl.edu/people/amanda-compadre-md/">View more informati
 on on Dr. Compadre's research »</a></p>
CATEGORIES:CRepHS Basic Science Seminars
LOCATION:BJCIH Conference Room 10AB
GEO:38.636692;-90.263454
ORGANIZER;CN="Allison":MAILTO:a.wyrsch@wustl.edu
URL;VALUE=URI:https://obgyn.wustl.edu/events/event/crephs-seminar-amanda-co
 mpadre-md/
END:VEVENT
BEGIN:VTIMEZONE
TZID:America/Chicago
BEGIN:DAYLIGHT
TZOFFSETFROM:-0600
TZOFFSETTO:-0500
DTSTART:20230312T080000
TZNAME:CDT
END:DAYLIGHT
END:VTIMEZONE
END:VCALENDAR
