BEGIN:VCALENDAR
VERSION:2.0
PRODID:-//Obstetrics &amp; Gynecology//NONSGML Events//EN
CALSCALE:GREGORIAN
X-ORIGINAL-URL:https://obgyn.wustl.edu/events/
X-WR-CALDESC:Obstetrics &amp; Gynecology - Events
BEGIN:VEVENT
UID:20190923T2027Z-1569270425.4924-EO-9532-1@172.23.128.18
STATUS:CONFIRMED
DTSTAMP:20260424T200154Z
CREATED:20190923T202551Z
LAST-MODIFIED:20190923T202604Z
DTSTART;TZID=America/Chicago:20191004T090000
DTEND;TZID=America/Chicago:20191004T100000
SUMMARY: CRepHS Seminar: Chao Zhou\, PhD
DESCRIPTION: Chao Zhou\, PhD Associate Professor Department of Biomedical E
 ngineering Washington University Title: “Label-free Diagnosis of Cervical C
 ancer based on Ultrahigh Resolution Optical Coherence Microscopy and Machin
 e Learning” Host/Lab: Wang View more information on Dr. Zhou’s research »
X-ALT-DESC;FMTTYPE=text/html: <p><strong><span style="color: #800000">Chao 
 Zhou\, PhD</span></strong><br />Associate Professor<br />Department of Biom
 edical Engineering<br />Washington University</p><p>Title: <em><strong>“Lab
 el-free Diagnosis of Cervical Cancer based on Ultrahigh Resolution Optical 
 Coherence Microscopy and Machine Learning”</strong></em></p><p>Host/Lab: Wa
 ng</p><p><a href="https://zlab.wustl.edu/">View more information on Dr. Zho
 u's research »</a></p>
CATEGORIES:CRepHS Basic Science Seminars
LOCATION:BJCIH Conference Room 10AB
GEO:38.636692;-90.263454
ORGANIZER;CN="Allison":MAILTO:a.wyrsch@wustl.edu
URL;VALUE=URI:https://obgyn.wustl.edu/events/event/crephs-seminar-chao-zhou
 -phd/
END:VEVENT
BEGIN:VTIMEZONE
TZID:America/Chicago
BEGIN:DAYLIGHT
TZOFFSETFROM:-0600
TZOFFSETTO:-0500
DTSTART:20190310T080000
TZNAME:CDT
END:DAYLIGHT
END:VTIMEZONE
END:VCALENDAR
