BEGIN:VCALENDAR
VERSION:2.0
PRODID:-//Obstetrics &amp; Gynecology//NONSGML Events//EN
CALSCALE:GREGORIAN
X-ORIGINAL-URL:https://obgyn.wustl.edu/events/
X-WR-CALDESC:Obstetrics &amp; Gynecology - Events
BEGIN:VEVENT
UID:20230905T1432Z-1693924333.0658-EO-29934-1@172.23.128.18
STATUS:CONFIRMED
DTSTAMP:20260417T233507Z
CREATED:20230905T141554Z
LAST-MODIFIED:20230905T141554Z
DTSTART;TZID=America/Chicago:20230915T090000
DTEND;TZID=America/Chicago:20230915T100000
SUMMARY: CRepHS Seminar: Chenyang Lu\, PhD
DESCRIPTION: Hybrid Register for Zoom link » Chenyang Lu\, PhD Fullgraf Pro
 fessor\, Director\, AI and IoT for Medicine Institute Department of Compute
 r Science & Engineering Washington University in St. Louis   Title: “Precis
 ion Medicine with AI and Wearables” Host/Lab: Zhao View more information on
  Dr. Lu’s research »
X-ALT-DESC;FMTTYPE=text/html: <p>Hybrid</p><p><a href="https://www.eventbri
 te.com/e/crephs-seminar-series-2023-2024-tickets-681872588267?aff=oddtdtcre
 ator">Register for Zoom link »</a></p><p><b>Chenyang Lu\, PhD</b><br />Full
 graf Professor\, Director\, AI and IoT for Medicine Institute<br />Departme
 nt of Computer Science & Engineering<br />Washington University in St. Loui
 s</p><p> </p><p><strong>Title: “Precision Medicine with AI and Wearables”</
 strong></p><p>Host/Lab: Zhao</p><p><a href="https://engineering.wustl.edu/f
 aculty/Chenyang-Lu.html">View more information on Dr. Lu's research »</a></
 p>
CATEGORIES:CRepHS Basic Science Seminars
LOCATION:BJCIH Conference Room 10AB
GEO:38.636692;-90.263454
ORGANIZER;CN="Allison":MAILTO:a.wyrsch@wustl.edu
URL;VALUE=URI:https://obgyn.wustl.edu/events/event/crephs-seminar-chenyang-
 lu-phd/
END:VEVENT
BEGIN:VTIMEZONE
TZID:America/Chicago
BEGIN:DAYLIGHT
TZOFFSETFROM:-0600
TZOFFSETTO:-0500
DTSTART:20230312T080000
TZNAME:CDT
END:DAYLIGHT
END:VTIMEZONE
END:VCALENDAR
