BEGIN:VCALENDAR
VERSION:2.0
PRODID:-//Obstetrics &amp; Gynecology//NONSGML Events//EN
CALSCALE:GREGORIAN
X-ORIGINAL-URL:https://obgyn.wustl.edu/events/
X-WR-CALDESC:Obstetrics &amp; Gynecology - Events
BEGIN:VEVENT
UID:20171213T0903Z-1513155796.9343-EO-4950-1@172.20.65.30
STATUS:CONFIRMED
DTSTAMP:20260422T103925Z
CREATED:20171213T003754Z
LAST-MODIFIED:20180319T150305Z
DTSTART;TZID=America/Chicago:20180413T090000
DTEND;TZID=America/Chicago:20180413T100000
SUMMARY: CRepHS Seminar: David Aronoff\, MD
DESCRIPTION: David Aronoff\, MD Professor of Medicine Professor of Patholog
 y\, Microbiology and Immunology Addison B. Scoville Jr. Chair in Medicine D
 irector\, Division of Infectious Diseases Vanderbilt University Title: “Dec
 iphering mechanisms of chorioamnionitis pathogenesis” Host/Lab: Mysorekar V
 iew more information on Dr. Aronoff’s research »
X-ALT-DESC;FMTTYPE=text/html: <p><span style="color: #800000\;"><strong>Dav
 id Aronoff\, MD</strong></span><br />Professor of Medicine<br />Professor o
 f Pathology\, Microbiology and Immunology<br />Addison B. Scoville Jr. Chai
 r in Medicine<br />Director\, Division of Infectious Diseases<br />Vanderbi
 lt University</p><p><strong>Title: <em>"Deciphering mechanisms of chorioamn
 ionitis pathogenesis"</em></strong></p><p>Host/Lab: Mysorekar</p><p><a href
 ="https://faculty.mc.vanderbilt.edu/Faculty/Details/34444">View more inform
 ation on Dr. Aronoff's research »</a></p>
CATEGORIES:CRepHS Basic Science Seminars,Visiting Speakers
LOCATION:BJCIH Conference Room 10AB
GEO:38.636692;-90.263454
ORGANIZER;CN="Magdalena":MAILTO:mdnelson@wustl.edu
URL;VALUE=URI:https://obgyn.wustl.edu/events/event/crephs-seminar-david-aro
 noff-md/
END:VEVENT
BEGIN:VTIMEZONE
TZID:America/Chicago
BEGIN:DAYLIGHT
TZOFFSETFROM:-0600
TZOFFSETTO:-0500
DTSTART:20180311T080000
TZNAME:CDT
END:DAYLIGHT
END:VTIMEZONE
END:VCALENDAR
