BEGIN:VCALENDAR
VERSION:2.0
PRODID:-//Obstetrics &amp; Gynecology//NONSGML Events//EN
CALSCALE:GREGORIAN
X-ORIGINAL-URL:https://obgyn.wustl.edu/events/
X-WR-CALDESC:Obstetrics &amp; Gynecology - Events
BEGIN:VEVENT
UID:20200407T2022Z-1586290955.2197-EO-10241-1@172.23.128.19
STATUS:CONFIRMED
DTSTAMP:20260424T200128Z
CREATED:20200407T195817Z
LAST-MODIFIED:20200407T195917Z
DTSTART;TZID=America/Chicago:20200124T090000
DTEND;TZID=America/Chicago:20200124T100000
SUMMARY: CRepHS Seminar: Debbie Frank\, PhD
DESCRIPTION: Debbie Frank\, PhD Scientific Editor Center for Reproductive H
 ealth Sciences Washington University Title: “Thinking Like a Reviewer: Stra
 tegies to Improve Grant Success” Host/Lab: CRepHS
X-ALT-DESC;FMTTYPE=text/html: <p><b>Debbie Frank\, PhD</b><br />Scientific 
 Editor<br />Center for Reproductive Health Sciences<br />Washington Univers
 ity</p><p><strong>Title: "Thinking Like a Reviewer: Strategies to Improve G
 rant Success"</strong></p><p>Host/Lab: CRepHS</p>
CATEGORIES:CRepHS Basic Science Seminars
LOCATION:BJCIH Conference Room 10AB
GEO:38.636692;-90.263454
ORGANIZER;CN="Allison":MAILTO:a.wyrsch@wustl.edu
URL;VALUE=URI:https://obgyn.wustl.edu/events/event/crephs-seminar-debbie-fr
 ank-phd-2/
END:VEVENT
BEGIN:VTIMEZONE
TZID:America/Chicago
BEGIN:STANDARD
TZOFFSETFROM:-0500
TZOFFSETTO:-0600
DTSTART:20191103T070000
TZNAME:CST
END:STANDARD
END:VTIMEZONE
END:VCALENDAR
