BEGIN:VCALENDAR
VERSION:2.0
PRODID:-//Obstetrics &amp; Gynecology//NONSGML Events//EN
CALSCALE:GREGORIAN
X-ORIGINAL-URL:https://obgyn.wustl.edu/events/
X-WR-CALDESC:Obstetrics &amp; Gynecology - Events
BEGIN:VEVENT
UID:20221017T1945Z-1666035931.971-EO-20891-1@172.23.128.19
STATUS:CONFIRMED
DTSTAMP:20260423T160131Z
CREATED:20221017T192233Z
LAST-MODIFIED:20221017T192233Z
DTSTART;TZID=America/Chicago:20221202T090000
DTEND;TZID=America/Chicago:20221202T100000
SUMMARY: CRepHS Seminar: Drew Schwartz\, MD\, PhD
DESCRIPTION: Hybrid Register for Zoom link » Drew Schwartz\, MD\, PhD Assis
 tant Professor Department of Pediatric Infectious Diseases Washington Unive
 rsity in St. Louis   Title: “The role of the gut microbiome in infant sepsi
 s” Host/Lab: Kau View more information on Dr. Schwartz’s research »
X-ALT-DESC;FMTTYPE=text/html: <p>Hybrid</p><p><a href="https://www.eventbri
 te.com/e/406449219557">Register for Zoom link »</a></p><p><b>Drew Schwartz\
 , MD\, PhD</b><br />Assistant Professor<br />Department of Pediatric Infect
 ious Diseases<br />Washington University in St. Louis</p><p> </p><p><strong
 >Title: “The role of the gut microbiome in infant sepsis”</strong></p><p>Ho
 st/Lab: Kau</p><p><a href="https://pediatrics.wustl.edu/faculty/Schwartz_D"
 >View more information on Dr. Schwartz's research »</a></p>
CATEGORIES:CRepHS Basic Science Seminars
LOCATION:BJCIH Conference Room 10AB
GEO:38.636692;-90.263454
ORGANIZER;CN="Allison":MAILTO:a.wyrsch@wustl.edu
URL;VALUE=URI:https://obgyn.wustl.edu/events/event/crephs-seminar-drew-schw
 artz-md-phd/
END:VEVENT
BEGIN:VTIMEZONE
TZID:America/Chicago
BEGIN:STANDARD
TZOFFSETFROM:-0500
TZOFFSETTO:-0600
DTSTART:20221106T070000
TZNAME:CST
END:STANDARD
END:VTIMEZONE
END:VCALENDAR
