BEGIN:VCALENDAR
VERSION:2.0
PRODID:-//Obstetrics &amp; Gynecology//NONSGML Events//EN
CALSCALE:GREGORIAN
X-ORIGINAL-URL:https://obgyn.wustl.edu/events/
X-WR-CALDESC:Obstetrics &amp; Gynecology - Events
BEGIN:VEVENT
UID:20240301T1548Z-1709308093.5179-EO-31065-1@172.23.128.18
STATUS:CONFIRMED
DTSTAMP:20260423T215406Z
CREATED:20240301T153142Z
LAST-MODIFIED:20240301T153142Z
DTSTART;TZID=America/Chicago:20240223T090000
DTEND;TZID=America/Chicago:20240223T100000
SUMMARY: CRepHS Seminar: Emily Feldstein
DESCRIPTION: Hybrid Register for Zoom link » Emily Feldstein Undergraduate 
 Student Center for Reproductive Health Sciences Washington University in St
 . Louis Date: Friday\, February 23rd\, 2024 at 9:00 am CST Title: “Quantita
 tive Pathology Analysis Using Machine Learning Methods” Host/Lab: Peinan Zh
 ao\, PhD
X-ALT-DESC;FMTTYPE=text/html: <p>Hybrid</p><p><a href="https://www.eventbri
 te.com/e/681872337517?aff=oddtdtcreator">Register for Zoom link »</a></p><p
 ><strong>Emily Feldstein</strong><br />Undergraduate Student<br />Center fo
 r Reproductive Health Sciences<br />Washington University in St. Louis</p><
 p><strong>Date:</strong> Friday\, February 23rd\, 2024 at 9:00 am CST</p><p
 ><em><strong>Title: "Quantitative Pathology Analysis Using Machine Learning
  Methods"</strong></em></p><p>Host/Lab: Peinan Zhao\, PhD</p>
CATEGORIES:CRepHS Basic Science Seminars,Research
LOCATION:BJCIH Conference Room 10AB
GEO:38.636692;-90.263454
ORGANIZER;CN="Audrey":MAILTO:audreyj@wustl.edu
URL;VALUE=URI:https://obgyn.wustl.edu/events/event/crephs-seminar-emily-fel
 dstein/
END:VEVENT
BEGIN:VTIMEZONE
TZID:America/Chicago
BEGIN:STANDARD
TZOFFSETFROM:-0500
TZOFFSETTO:-0600
DTSTART:20231105T070000
TZNAME:CST
END:STANDARD
END:VTIMEZONE
END:VCALENDAR
