BEGIN:VCALENDAR
VERSION:2.0
PRODID:-//Obstetrics &amp; Gynecology//NONSGML Events//EN
CALSCALE:GREGORIAN
X-ORIGINAL-URL:https://obgyn.wustl.edu/events/
X-WR-CALDESC:Obstetrics &amp; Gynecology - Events
BEGIN:VEVENT
UID:20220916T1455Z-1663340106.6928-EO-19357-1@172.23.128.19
STATUS:CONFIRMED
DTSTAMP:20260422T082455Z
CREATED:20220916T145234Z
LAST-MODIFIED:20220916T145234Z
DTSTART;TZID=America/Chicago:20221007T090000
DTEND;TZID=America/Chicago:20221007T100000
SUMMARY: CRepHS Seminar: Hari Eswaran\, PhD
DESCRIPTION: Hybrid Register for Zoom link » Hari Eswaran\, PhD Professor a
 nd Vice Chair of Research Department of Obstetrics and Gynecology and the I
 nstitute for Digital Health & Innovation University of Arkansas for Medical
  Sciences Title: “A non-invasive maternal-fetal physiology monitoring tool:
  SARA” Host/Lab: Wang View more information on Dr. Eswaran’s research »
X-ALT-DESC;FMTTYPE=text/html: <p>Hybrid</p><p><a href="https://www.eventbri
 te.com/e/406449219557">Register for Zoom link »</a></p><p><b>Hari Eswaran\,
  PhD</b><br />Professor and Vice Chair of Research<br />Department of Obste
 trics and Gynecology and the Institute for Digital Health & Innovation<br /
 >University of Arkansas for Medical Sciences</p><p><strong>Title: “A non-in
 vasive maternal-fetal physiology monitoring tool: SARA”</strong></p><p>Host
 /Lab: Wang</p><p><a href="https://idhi.uams.edu/our-team/hari-eswaran/">Vie
 w more information on Dr. Eswaran’s research »</a></p>
CATEGORIES:CRepHS Basic Science Seminars
LOCATION:BJCIH Conference Room 10AB
GEO:38.636692;-90.263454
ORGANIZER;CN="Allison":MAILTO:a.wyrsch@wustl.edu
URL;VALUE=URI:https://obgyn.wustl.edu/events/event/crephs-seminar-hari-eswa
 ran-phd/
END:VEVENT
BEGIN:VTIMEZONE
TZID:America/Chicago
BEGIN:DAYLIGHT
TZOFFSETFROM:-0600
TZOFFSETTO:-0500
DTSTART:20220313T080000
TZNAME:CDT
END:DAYLIGHT
END:VTIMEZONE
END:VCALENDAR
