BEGIN:VCALENDAR
VERSION:2.0
PRODID:-//Obstetrics &amp; Gynecology//NONSGML Events//EN
CALSCALE:GREGORIAN
X-ORIGINAL-URL:https://obgyn.wustl.edu/events/
X-WR-CALDESC:Obstetrics &amp; Gynecology - Events
BEGIN:VEVENT
UID:20190118T1238Z-1547815090.4731-EO-8160-1@172.23.128.18
STATUS:CONFIRMED
DTSTAMP:20260421T182732Z
CREATED:20190118T012420Z
LAST-MODIFIED:20190118T012420Z
DTSTART;TZID=America/Chicago:20190301T090000
DTEND;TZID=America/Chicago:20190301T100000
SUMMARY: CRepHS Seminar: Hui Wang
DESCRIPTION: Hui Wang Graduate Student Department of Obstetrics and Gynecol
 ogy Center for Reproductive Health Sciences Washington University School of
  Medicine Title: “TBD”  Host/Lab: Wang View more information on Dr. Wang’s 
 research »
X-ALT-DESC;FMTTYPE=text/html: <p><span style="color: #800000\;"><strong>Hui
  Wang</strong></span><br />Graduate Student<br />Department of Obstetrics a
 nd Gynecology<br />Center for Reproductive Health Sciences<br />Washington 
 University School of Medicine</p><p><strong>Title: "TBD" </strong></p><p>Ho
 st/Lab: Wang</p><p><a href="https://reproductivesciences.wustl.edu/laborato
 ries/wang-lab/">View more information on Dr. Wang's research »</a></p>
CATEGORIES:CRepHS Basic Science Seminars
LOCATION:BJCIH Conference Room 10AB
GEO:38.636692;-90.263454
ORGANIZER;CN="Magdalena":MAILTO:mdnelson@wustl.edu
URL;VALUE=URI:https://obgyn.wustl.edu/events/event/crephs-seminar-hui-wang/
END:VEVENT
BEGIN:VTIMEZONE
TZID:America/Chicago
BEGIN:STANDARD
TZOFFSETFROM:-0500
TZOFFSETTO:-0600
DTSTART:20181104T070000
TZNAME:CST
END:STANDARD
END:VTIMEZONE
END:VCALENDAR
