BEGIN:VCALENDAR
VERSION:2.0
PRODID:-//Obstetrics &amp; Gynecology//NONSGML Events//EN
CALSCALE:GREGORIAN
X-ORIGINAL-URL:https://obgyn.wustl.edu/events/
X-WR-CALDESC:Obstetrics &amp; Gynecology - Events
BEGIN:VEVENT
UID:20171130T0457Z-1512017826.622-EO-4878-1@172.20.65.30
STATUS:CONFIRMED
DTSTAMP:20260424T200229Z
CREATED:20171129T180219Z
LAST-MODIFIED:20180906T203117Z
DTSTART;TZID=America/Chicago:20181214T090000
DTEND;TZID=America/Chicago:20181214T100000
SUMMARY: CRepHS Seminar: Adrian Erlebacher\, MD\, PhD
DESCRIPTION: Adrian Erlebacher\, MD\, PhD Professor Department of Laborator
 y Medicine University of California San Francisco Title: “Epigenetics of th
 e maternal-fetal interface” Host/Lab: England View more information on Dr. 
 Erlebacher’s research »
X-ALT-DESC;FMTTYPE=text/html: <p><span style="color: #800000\;"><strong>Adr
 ian Erlebacher\, MD\, PhD</strong></span><br />Professor<br />Department of
  Laboratory Medicine<br />University of California San Francisco</p><p><str
 ong>Title: <em>"Epigenetics of the maternal-fetal interface"</em></strong><
 /p><p>Host/Lab: England</p><p><a href="https://bms.ucsf.edu/faculty/adrian-
 erlebacher-md-phd">View more information on Dr. Erlebacher's research »</a>
 </p>
CATEGORIES:CRepHS Basic Science Seminars,Visiting Speakers
LOCATION:BJCIH Conference Room 10AB
GEO:38.636692;-90.263454
ORGANIZER;CN="Magdalena":MAILTO:mdnelson@wustl.edu
URL;VALUE=URI:https://obgyn.wustl.edu/events/event/crephs-seminar-joel-garb
 ow-phd/
END:VEVENT
BEGIN:VTIMEZONE
TZID:America/Chicago
BEGIN:STANDARD
TZOFFSETFROM:-0500
TZOFFSETTO:-0600
DTSTART:20181104T070000
TZNAME:CST
END:STANDARD
END:VTIMEZONE
END:VCALENDAR
