BEGIN:VCALENDAR
VERSION:2.0
PRODID:-//Obstetrics &amp; Gynecology//NONSGML Events//EN
CALSCALE:GREGORIAN
X-ORIGINAL-URL:https://obgyn.wustl.edu/events/
X-WR-CALDESC:Obstetrics &amp; Gynecology - Events
BEGIN:VEVENT
UID:20240919T2146Z-1726782397.1383-EO-32516-1@10.24.106.144
STATUS:CONFIRMED
DTSTAMP:20260421T211354Z
CREATED:20240919T214138Z
LAST-MODIFIED:20240919T214138Z
DTSTART;TZID=America/Chicago:20241101T090000
DTEND;TZID=America/Chicago:20241101T100000
SUMMARY: CRepHS Seminar: John S. Davis\, PhD
DESCRIPTION: Hybrid Request Zoom link » John S. Davis\, PhD Professor Depar
 tment of Obstetrics and Gynecology University of Nebraska Title: TBD Host/L
 ab: Amargant i Riera Learn more about Dr. Davis’ research here
X-ALT-DESC;FMTTYPE=text/html: <p>Hybrid</p><p><a href="mailto:bcaitlyn@wust
 l.edu">Request Zoom link »</a></p><p><strong>John S. Davis\, PhD</strong><b
 r />Professor<br />Department of Obstetrics and Gynecology<br />University 
 of Nebraska</p><p><strong>Title: TBD</strong></p><p>Host/Lab: Amargant i Ri
 era</p><p><a href="https://www.unmc.edu/obgyn/research/academic-research/da
 vis/index.html">Learn more about Dr. Davis' research here</a></p>
CATEGORIES:CRepHS Basic Science Seminars,Research
LOCATION:BJCIH Conference Room 10AB
GEO:38.636692;-90.263454
ORGANIZER;CN="Audrey":MAILTO:audreyj@wustl.edu
URL;VALUE=URI:https://obgyn.wustl.edu/events/event/crephs-seminar-john-s-da
 vis-phd/
END:VEVENT
BEGIN:VTIMEZONE
TZID:America/Chicago
BEGIN:DAYLIGHT
TZOFFSETFROM:-0600
TZOFFSETTO:-0500
DTSTART:20240310T080000
TZNAME:CDT
END:DAYLIGHT
END:VTIMEZONE
END:VCALENDAR
