BEGIN:VCALENDAR
VERSION:2.0
PRODID:-//Obstetrics &amp; Gynecology//NONSGML Events//EN
CALSCALE:GREGORIAN
X-ORIGINAL-URL:https://obgyn.wustl.edu/events/
X-WR-CALDESC:Obstetrics &amp; Gynecology - Events
BEGIN:VEVENT
UID:20220209T1520Z-1644420047.5154-EO-15140-1@172.23.128.18
STATUS:CONFIRMED
DTSTAMP:20260424T200227Z
CREATED:20220209T151702Z
LAST-MODIFIED:20220209T151702Z
DTSTART;TZID=America/Chicago:20220325T090000
DTEND;TZID=America/Chicago:20220325T100000
SUMMARY: CRepHS Seminar: John Yeh\, MD
DESCRIPTION: Online Register for Zoom link » John Yeh\, MD Professor Divisi
 on of Reproductive Endocrinology and Infertility Department of Obstetrics a
 nd Gynecology University of Massachusetts Chan Medical School/UMass Memoria
 l Health Care Title: “Four Gaps to Address to Improve Outcomes in Reproduct
 ive Medicine” Host/Lab: Wang View more information on Dr. Yeh’s research »
X-ALT-DESC;FMTTYPE=text/html: <p>Online</p><p><a href="https://www.eventbri
 te.com/e/crephs-seminar-series-registration-243858506357">Register for Zoom
  link »</a></p><p><b>John Yeh\, MD</b><br />Professor<br />Division of Repr
 oductive Endocrinology and Infertility<br />Department of Obstetrics and Gy
 necology<br />University of Massachusetts Chan Medical School/UMass Memoria
 l Health Care</p><p><strong>Title: “Four Gaps to Address to Improve Outcome
 s in Reproductive Medicine”</strong></p><p>Host/Lab: Wang</p><p><a href="ht
 tps://physicians.umassmemorial.org/details/4572/john-yeh-gynecology-ob_gyn-
 reproductive_endocrinology_infertility-obstetrics_and_gynecology-worcester"
 >View more information on Dr. Yeh's research »</a></p>
CATEGORIES:CRepHS Basic Science Seminars
LOCATION:Online
GEO:0.000000;0.000000
ORGANIZER;CN="Allison":MAILTO:a.wyrsch@wustl.edu
URL;VALUE=URI:https://obgyn.wustl.edu/events/event/crephs-seminar-john-yeh-
 md/
END:VEVENT
BEGIN:VTIMEZONE
TZID:America/Chicago
BEGIN:DAYLIGHT
TZOFFSETFROM:-0600
TZOFFSETTO:-0500
DTSTART:20220313T080000
TZNAME:CDT
END:DAYLIGHT
END:VTIMEZONE
END:VCALENDAR
