BEGIN:VCALENDAR
VERSION:2.0
PRODID:-//Obstetrics &amp; Gynecology//NONSGML Events//EN
CALSCALE:GREGORIAN
X-ORIGINAL-URL:https://obgyn.wustl.edu/events/
X-WR-CALDESC:Obstetrics &amp; Gynecology - Events
BEGIN:VEVENT
UID:20200408T1929Z-1586374143.4379-EO-10265-1@172.23.128.18
STATUS:CONFIRMED
DTSTAMP:20260423T151508Z
CREATED:20200408T191217Z
LAST-MODIFIED:20200408T191217Z
DTSTART;TZID=America/Chicago:20200110T090000
DTEND;TZID=America/Chicago:20200110T100000
SUMMARY: CRepHS Seminar: Jonathan H. Sheehan\, PhD
DESCRIPTION: Jonathan H. Sheehan\, PhD Associate Professor of Medicine Divi
 sion of Infectious Disease Washington University Title: “Understanding dise
 ase mechanism using protein models\, when 3D structure is not known” Host/L
 ab: CWIDR View more information on the CWIDR lab research »
X-ALT-DESC;FMTTYPE=text/html: <p><b>Jonathan H. Sheehan\, PhD</b><br />Asso
 ciate Professor of Medicine<br />Division of Infectious Disease<br />Washin
 gton University</p><p>Title: <em><strong>“Understanding disease mechanism u
 sing protein models\, when 3D structure is not known”</strong></em></p><p>H
 ost/Lab: CWIDR</p><p><a href="http://cwidr.wustl.edu/">View more informatio
 n on the CWIDR lab research »</a></p>
CATEGORIES:CRepHS Basic Science Seminars
LOCATION:BJCIH Conference Room 10AB
GEO:38.636692;-90.263454
ORGANIZER;CN="Allison":MAILTO:a.wyrsch@wustl.edu
URL;VALUE=URI:https://obgyn.wustl.edu/events/event/crephs-seminar-jonathan-
 h-sheehan-phd/
END:VEVENT
BEGIN:VTIMEZONE
TZID:America/Chicago
BEGIN:STANDARD
TZOFFSETFROM:-0500
TZOFFSETTO:-0600
DTSTART:20191103T070000
TZNAME:CST
END:STANDARD
END:VTIMEZONE
END:VCALENDAR
