BEGIN:VCALENDAR
VERSION:2.0
PRODID:-//Obstetrics &amp; Gynecology//NONSGML Events//EN
CALSCALE:GREGORIAN
X-ORIGINAL-URL:https://obgyn.wustl.edu/events/
X-WR-CALDESC:Obstetrics &amp; Gynecology - Events
BEGIN:VEVENT
UID:20240919T2146Z-1726782397.0062-EO-32514-1@10.24.106.144
STATUS:CONFIRMED
DTSTAMP:20260424T200202Z
CREATED:20240919T213606Z
LAST-MODIFIED:20240919T213606Z
DTSTART;TZID=America/Chicago:20241004T090000
DTEND;TZID=America/Chicago:20241004T100000
SUMMARY: CRepHS Seminar: Kali Pruss\, PhD
DESCRIPTION: Hybrid Request Zoom link » Kali Pruss\, PhD Postdoctoral Resea
 rch Scholar The Gordon Laboratory The Edison Family Center for Genome Scien
 ces & Systems Biology Washington University Title: TBD Host/Lab: England
X-ALT-DESC;FMTTYPE=text/html: <p>Hybrid</p><p><a href="mailto:bcaitlyn@wust
 l.edu">Request Zoom link »</a></p><p><strong>Kali Pruss\, PhD</strong><br /
 >Postdoctoral Research Scholar<br />The Gordon Laboratory<br /><a href="htt
 ps://genomesciences.wustl.edu/">The Edison Family Center for Genome Science
 s & Systems Biology</a><br />Washington University</p><p><strong>Title: TBD
 </strong></p><p>Host/Lab: England</p>
CATEGORIES:CRepHS Basic Science Seminars,Research
LOCATION:BJCIH Conference Room 10AB
GEO:38.636692;-90.263454
ORGANIZER;CN="Audrey":MAILTO:audreyj@wustl.edu
URL;VALUE=URI:https://obgyn.wustl.edu/events/event/crephs-seminar-kali-prus
 s-phd/
END:VEVENT
BEGIN:VTIMEZONE
TZID:America/Chicago
BEGIN:DAYLIGHT
TZOFFSETFROM:-0600
TZOFFSETTO:-0500
DTSTART:20240310T080000
TZNAME:CDT
END:DAYLIGHT
END:VTIMEZONE
END:VCALENDAR
