BEGIN:VCALENDAR
VERSION:2.0
PRODID:-//Obstetrics &amp; Gynecology//NONSGML Events//EN
CALSCALE:GREGORIAN
X-ORIGINAL-URL:https://obgyn.wustl.edu/events/
X-WR-CALDESC:Obstetrics &amp; Gynecology - Events
BEGIN:VEVENT
UID:20220308T1926Z-1646767614.6788-EO-15560-1@172.23.128.19
STATUS:CONFIRMED
DTSTAMP:20260424T200227Z
CREATED:20220308T192617Z
LAST-MODIFIED:20220308T192617Z
DTSTART;TZID=America/Chicago:20220422T090000
DTEND;TZID=America/Chicago:20220422T100000
SUMMARY: CRepHS Seminar: Kevin Prifti
DESCRIPTION: Online Register for Zoom link » Kevin Prifti Senior Research T
 echnician Department of Obstetrics and Gynecology Center for Reproductive H
 ealth Sciences Washington University Title: “Diet-induced obesity impairs u
 terine contractility in mice” Host/Lab: Frolova View more information on Ke
 vin Prifti’s research »
X-ALT-DESC;FMTTYPE=text/html: <p>Online</p><p><a href="https://www.eventbri
 te.com/e/crephs-seminar-series-registration-243858506357">Register for Zoom
  link »</a></p><p><b>Kevin Prifti</b><br />Senior Research Technician<br />
 Department of Obstetrics and Gynecology<br />Center for Reproductive Health
  Sciences<br />Washington University</p><p><strong>Title: “Diet-induced obe
 sity impairs uterine contractility in mice”</strong></p><p>Host/Lab: Frolov
 a</p><p><a href="https://www.researchgate.net/profile/Kevin-Prifti">View mo
 re information on Kevin Prifti's research »</a></p>
CATEGORIES:CRepHS Basic Science Seminars
LOCATION:Online
GEO:0.000000;0.000000
ORGANIZER;CN="Allison":MAILTO:a.wyrsch@wustl.edu
URL;VALUE=URI:https://obgyn.wustl.edu/events/event/crephs-seminar-kevin-pri
 fti/
END:VEVENT
BEGIN:VTIMEZONE
TZID:America/Chicago
BEGIN:DAYLIGHT
TZOFFSETFROM:-0600
TZOFFSETTO:-0500
DTSTART:20220313T080000
TZNAME:CDT
END:DAYLIGHT
END:VTIMEZONE
END:VCALENDAR
