BEGIN:VCALENDAR
VERSION:2.0
PRODID:-//Obstetrics &amp; Gynecology//NONSGML Events//EN
CALSCALE:GREGORIAN
X-ORIGINAL-URL:https://obgyn.wustl.edu/events/
X-WR-CALDESC:Obstetrics &amp; Gynecology - Events
BEGIN:VEVENT
UID:20170913T0332Z-1505273541.3576-EO-4418-1@172.20.65.30
STATUS:CONFIRMED
DTSTAMP:20260424T113211Z
CREATED:20170912T224009Z
LAST-MODIFIED:20171031T150940Z
DTSTART;TZID=America/Chicago:20171103T090000
DTEND;TZID=America/Chicago:20171103T100000
SUMMARY: ***CANCELED*** CRepHS Seminar: Laura Schulz\, PhD
DESCRIPTION: Laura Schulz\, PhD Associate Professor Obstetrics\, Gynecology
  and Women’s Health Reproductive and Perinatal Research University of Misso
 uri School of Medicine University of Missouri Health System Title: “Long an
 d Short-term Consequences of Leptin during Pregnancy” Host/Lab: Moley View 
 more information on Dr. Schulz’s research »
X-ALT-DESC;FMTTYPE=text/html: <p><span style="color: #800000\;"><strong>Lau
 ra Schulz\, PhD</strong></span><br />Associate Professor<br />Obstetrics\, 
 Gynecology and Women’s Health<br />Reproductive and Perinatal Research<br /
 >University of Missouri School of Medicine<br />University of Missouri Heal
 th System</p><p><strong>Title: "Long and Short-term Consequences of Leptin 
 during Pregnancy"</strong></p><p>Host/Lab: Moley</p><p><a href="https://lau
 raschulz.biology.missouri.edu/">View more information on Dr. Schulz's resea
 rch »</a></p>
CATEGORIES:CRepHS Basic Science Seminars,Visiting Speakers
LOCATION:BJCIH Conference Room 10AB
GEO:38.636692;-90.263454
ORGANIZER;CN="Magdalena":MAILTO:mdnelson@wustl.edu
URL;VALUE=URI:https://obgyn.wustl.edu/events/event/crephs-seminar-laura-sch
 ulz-phd/
END:VEVENT
BEGIN:VTIMEZONE
TZID:America/Chicago
BEGIN:DAYLIGHT
TZOFFSETFROM:-0600
TZOFFSETTO:-0500
DTSTART:20170312T080000
TZNAME:CDT
END:DAYLIGHT
END:VTIMEZONE
END:VCALENDAR
