BEGIN:VCALENDAR
VERSION:2.0
PRODID:-//Obstetrics &amp; Gynecology//NONSGML Events//EN
CALSCALE:GREGORIAN
X-ORIGINAL-URL:https://obgyn.wustl.edu/events/
X-WR-CALDESC:Obstetrics &amp; Gynecology - Events
BEGIN:VEVENT
UID:20220106T2112Z-1641503528.429-EO-14148-1@172.23.128.31
STATUS:CONFIRMED
DTSTAMP:20260424T200227Z
CREATED:20220105T005509Z
LAST-MODIFIED:20220105T005509Z
DTSTART;TZID=America/Chicago:20211210T090000
DTEND;TZID=America/Chicago:20211210T100000
SUMMARY: CRepHS Seminar: Lori Holtz\, MD\, MSPH
DESCRIPTION: Online Lori Holtz\, MD Assistant Professor Department of Pedia
 trics – Pediatric Gastroenterology Washington University Title: “TBD” Host/
 Lab: CWIDR View more information on Dr. Holtz’s research »
X-ALT-DESC;FMTTYPE=text/html: <p>Online</p><p><b>Lori Holtz\, MD</b><br />A
 ssistant Professor<br />Department of Pediatrics – Pediatric Gastroenterolo
 gy<br />Washington University</p><p><strong>Title: “TBD”</strong></p><p>Hos
 t/Lab: CWIDR</p><p><a href="http://research.peds.wustl.edu/labs/holtz_l">Vi
 ew more information on Dr. Holtz’s research »</a></p>
CATEGORIES:CRepHS Basic Science Seminars
ORGANIZER;CN="Catherine":MAILTO:cbetz@wustl.edu
URL;VALUE=URI:https://obgyn.wustl.edu/events/event/crephs-seminar-lori-holt
 z-md-msph/
END:VEVENT
BEGIN:VTIMEZONE
TZID:America/Chicago
BEGIN:STANDARD
TZOFFSETFROM:-0500
TZOFFSETTO:-0600
DTSTART:20211107T070000
TZNAME:CST
END:STANDARD
END:VTIMEZONE
END:VCALENDAR
