BEGIN:VCALENDAR
VERSION:2.0
PRODID:-//Obstetrics &amp; Gynecology//NONSGML Events//EN
CALSCALE:GREGORIAN
X-ORIGINAL-URL:https://obgyn.wustl.edu/events/
X-WR-CALDESC:Obstetrics &amp; Gynecology - Events
BEGIN:VEVENT
UID:20191007T1837Z-1570473422.3735-EO-9613-1@172.23.128.18
STATUS:CONFIRMED
DTSTAMP:20260423T002546Z
CREATED:20191007T182837Z
LAST-MODIFIED:20191007T182837Z
DTSTART;TZID=America/Chicago:20191206T090000
DTEND;TZID=America/Chicago:20191206T100000
SUMMARY: CRepHS Seminar: Mariana Wolfner\, PhD
DESCRIPTION: Mariana Wolfner\, PhD Professor of Developmental Biology Steph
 en H. Weiss Presidential Fellow Cornell University Title: “TBD” Host/Lab: S
 anti View more information on Dr. Wolfner’s research »
X-ALT-DESC;FMTTYPE=text/html: <p><span style="color: #800000"><b>Mariana Wo
 lfner\, PhD</b></span><br />Professor of Developmental Biology<br />Stephen
  H. Weiss Presidential Fellow<br />Cornell University</p><p><strong>Title: 
 "TBD"</strong></p><p>Host/Lab: Santi</p><p><a href="https://wolfnerlab.wixs
 ite.com/wolfnerlab">View more information on Dr. Wolfner's research »</a></
 p>
CATEGORIES:CRepHS Basic Science Seminars,Visiting Speakers
LOCATION:BJCIH Conference Room 10AB
GEO:38.636692;-90.263454
ORGANIZER;CN="Allison":MAILTO:a.wyrsch@wustl.edu
URL;VALUE=URI:https://obgyn.wustl.edu/events/event/crephs-seminar-mariana-w
 olfner-phd/
END:VEVENT
BEGIN:VTIMEZONE
TZID:America/Chicago
BEGIN:STANDARD
TZOFFSETFROM:-0500
TZOFFSETTO:-0600
DTSTART:20191103T070000
TZNAME:CST
END:STANDARD
END:VTIMEZONE
END:VCALENDAR
