BEGIN:VCALENDAR
VERSION:2.0
PRODID:-//Obstetrics &amp; Gynecology//NONSGML Events//EN
CALSCALE:GREGORIAN
X-ORIGINAL-URL:https://obgyn.wustl.edu/events/
X-WR-CALDESC:Obstetrics &amp; Gynecology - Events
BEGIN:VEVENT
UID:20231127T1637Z-1701103052.7835-EO-30504-1@172.23.128.18
STATUS:CONFIRMED
DTSTAMP:20260422T082500Z
CREATED:20231127T163028Z
LAST-MODIFIED:20231127T163112Z
DTSTART;TZID=America/Chicago:20231201T090000
DTEND;TZID=America/Chicago:20231201T100000
SUMMARY: CRepHS Seminar: Meng Wu\, PhD
DESCRIPTION: Hybrid Register for Zoom link » Meng Wu\, PhD Assistant Profes
 sor Department of Molecular Microbiology Washington University in St. Louis
  Title: “The gut complement system: A microbiome induced sentinel for comba
 ting pathogens and sparing commensals” Host/Lab: Kau Lab Learn more about D
 r. Wu’s research here>>
X-ALT-DESC;FMTTYPE=text/html: <p>Hybrid</p><p><a href="https://www.eventbri
 te.com/e/681872337517?aff=oddtdtcreator">Register for Zoom link »</a></p><p
 ><strong><span class="OYPEnA text-decoration-none text-strikethrough-none">
 Meng Wu\, PhD</span></strong></p><p class="cvGsUA direction-ltr align-cente
 r para-style-body">Assistant Professor<br />Department of Molecular Microbi
 ology<br />Washington University in St. Louis</p><p><strong>Title: “The gut
  complement system: A microbiome induced sentinel for combating pathogens a
 nd sparing commensals”</strong></p><p>Host/Lab: Kau Lab</p><p>Learn more ab
 out Dr. Wu's research <a href="https://sites.wustl.edu/wulab/">here>></a></
 p>
LOCATION:BJCIH Conference Room 10AB
GEO:38.636692;-90.263454
ORGANIZER;CN="Audrey":MAILTO:audreyj@wustl.edu
URL;VALUE=URI:https://obgyn.wustl.edu/events/event/crephs-seminar-meng-wu-p
 hd/
END:VEVENT
BEGIN:VTIMEZONE
TZID:America/Chicago
BEGIN:STANDARD
TZOFFSETFROM:-0500
TZOFFSETTO:-0600
DTSTART:20231105T070000
TZNAME:CST
END:STANDARD
END:VTIMEZONE
END:VCALENDAR
