BEGIN:VCALENDAR
VERSION:2.0
PRODID:-//Obstetrics &amp; Gynecology//NONSGML Events//EN
CALSCALE:GREGORIAN
X-ORIGINAL-URL:https://obgyn.wustl.edu/events/
X-WR-CALDESC:Obstetrics &amp; Gynecology - Events
BEGIN:VEVENT
UID:20231103T1641Z-1699029694.882-EO-30308-1@172.23.128.18
STATUS:CONFIRMED
DTSTAMP:20260421T130234Z
CREATED:20231103T162827Z
LAST-MODIFIED:20231103T162827Z
DTSTART;TZID=America/Chicago:20231117T090000
DTEND;TZID=America/Chicago:20231117T100000
SUMMARY: CRepHS Seminar: Michael Silverman\, MD\, PhD
DESCRIPTION: Hybrid Register for Zoom link » Michael Silverman\, MD\, PhD A
 ssistant Professor of Pediatrics Perelman School of Medicine University of 
 Pennsylvania Title: “Leveraging early-life microbes to prevent autoimmune d
 iabetes” Host/Lab: Kau Lab Learn more about Dr. Silverman’s research here>>
X-ALT-DESC;FMTTYPE=text/html: <p>Hybrid</p><p><a href="https://www.eventbri
 te.com/e/681872337517?aff=oddtdtcreator">Register for Zoom link »</a></p><p
 ><strong><span class="OYPEnA text-decoration-none text-strikethrough-none">
 Michael Silverman\, MD\, PhD</span></strong></p><p class="cvGsUA direction-
 ltr align-center para-style-body">Assistant Professor of Pediatrics<br />Pe
 relman School of Medicine<br />University of Pennsylvania</p><p><strong>Tit
 le: “Leveraging early-life microbes to prevent autoimmune diabetes”</strong
 ></p><p>Host/Lab: Kau Lab</p><p>Learn more about Dr. Silverman's research <
 a href="https://www.med.upenn.edu/apps/faculty/index.php/g363/c644/p19242">
 here>></a></p>
CATEGORIES:CRepHS Basic Science Seminars,Research,Visiting Speakers
LOCATION:BJCIH Conference Room 10AB
GEO:38.636692;-90.263454
ORGANIZER;CN="Audrey":MAILTO:audreyj@wustl.edu
URL;VALUE=URI:https://obgyn.wustl.edu/events/event/crephs-seminar-michael-s
 ilverman-md-phd/
END:VEVENT
BEGIN:VTIMEZONE
TZID:America/Chicago
BEGIN:STANDARD
TZOFFSETFROM:-0500
TZOFFSETTO:-0600
DTSTART:20231105T070000
TZNAME:CST
END:STANDARD
END:VTIMEZONE
END:VCALENDAR
