BEGIN:VCALENDAR
VERSION:2.0
PRODID:-//Obstetrics &amp; Gynecology//NONSGML Events//EN
CALSCALE:GREGORIAN
X-ORIGINAL-URL:https://obgyn.wustl.edu/events/
X-WR-CALDESC:Obstetrics &amp; Gynecology - Events
BEGIN:VEVENT
UID:20190118T1238Z-1547815090.5363-EO-8175-1@172.23.128.18
STATUS:CONFIRMED
DTSTAMP:20260422T181605Z
CREATED:20190118T013736Z
LAST-MODIFIED:20190314T191936Z
DTSTART;TZID=America/Chicago:20190412T090000
DTEND;TZID=America/Chicago:20190412T100000
SUMMARY: CRepHS Seminar: Michael Thompson\, MD\, PhD
DESCRIPTION: Michael Thompson\, MD\, PhD Instructor in Pediatrics Departmen
 t of Pediatrics Endocrinology and Diabetes Washington University School of 
 Medicine Title: “Impact of Maternal Obesogenic Diet on Offspring Liver Dise
 ase” Host/Lab: Moley View more information on Dr. Thompson’s research »
X-ALT-DESC;FMTTYPE=text/html: <p><span style="color: #800000"><strong>Micha
 el Thompson\, MD\, PhD</strong></span><br />Instructor in Pediatrics<br />D
 epartment of Pediatrics<br />Endocrinology and Diabetes<br />Washington Uni
 versity School of Medicine</p><p><strong>Title: "Impact of Maternal Obesoge
 nic Diet on Offspring Liver Disease"</strong></p><p>Host/Lab: Moley</p><p><
 a href="http://pediatrics.wustl.edu/faculty/Thompson_M">View more informati
 on on Dr. Thompson's research »</a></p>
CATEGORIES:CRepHS Basic Science Seminars
LOCATION:BJCIH Conference Room 10AB
GEO:38.636692;-90.263454
ORGANIZER;CN="Magdalena":MAILTO:mdnelson@wustl.edu
URL;VALUE=URI:https://obgyn.wustl.edu/events/event/crephs-seminar-michael-t
 hompson-md-phd/
END:VEVENT
BEGIN:VTIMEZONE
TZID:America/Chicago
BEGIN:DAYLIGHT
TZOFFSETFROM:-0600
TZOFFSETTO:-0500
DTSTART:20190310T080000
TZNAME:CDT
END:DAYLIGHT
END:VTIMEZONE
END:VCALENDAR
