BEGIN:VCALENDAR
VERSION:2.0
PRODID:-//Obstetrics &amp; Gynecology//NONSGML Events//EN
CALSCALE:GREGORIAN
X-ORIGINAL-URL:https://obgyn.wustl.edu/events/
X-WR-CALDESC:Obstetrics &amp; Gynecology - Events
BEGIN:VEVENT
UID:20191007T1837Z-1570473422.3623-EO-9604-1@172.23.128.18
STATUS:CONFIRMED
DTSTAMP:20260420T102209Z
CREATED:20191007T181835Z
LAST-MODIFIED:20191007T182028Z
DTSTART;TZID=America/Chicago:20191108T090000
DTEND;TZID=America/Chicago:20191108T100000
SUMMARY: CRepHS Seminar: Rajendra Kumar\, PhD
DESCRIPTION: T. Rajendra Kumar\, PhD Professor and Edgar L.\, Patricia M. M
 akowski and Family Endowed Chair Division of Reproductive Sciences Associat
 e Vice Chair of Research Department of Obstetrics and Gynecology Second App
 ointment Division of Reproductive Endocrinology and Infertility Title: “Red
 irecting gonadotropin secretion in vivo” Host/Lab: Kommagani View more info
 rmation on Dr. Kumar’s research »
X-ALT-DESC;FMTTYPE=text/html: <p><span style="color: #800000"><b>T. Rajendr
 a Kumar\, PhD</b></span><br />Professor and Edgar L.\, Patricia M. Makowski
  and Family Endowed Chair<br />Division of Reproductive Sciences<br />Assoc
 iate Vice Chair of Research<br />Department of Obstetrics and Gynecology<br
  />Second Appointment<br />Division of Reproductive Endocrinology and Infer
 tility</p><p><strong>Title: "Redirecting gonadotropin secretion in vivo"</s
 trong></p><p>Host/Lab: Kommagani</p><p><a href="http://www.ucdenver.edu/aca
 demics/colleges/medicalschool/departments/obgyn/Divisions/reprosciences/Pag
 es/Kumar-Lab.aspx">View more information on Dr. Kumar's research »</a></p>
CATEGORIES:CRepHS Basic Science Seminars,Visiting Speakers
LOCATION:BJCIH Conference Room 10AB
GEO:38.636692;-90.263454
ORGANIZER;CN="Allison":MAILTO:a.wyrsch@wustl.edu
URL;VALUE=URI:https://obgyn.wustl.edu/events/event/crephs-seminar-rajendra-
 kumar-phd/
END:VEVENT
BEGIN:VTIMEZONE
TZID:America/Chicago
BEGIN:STANDARD
TZOFFSETFROM:-0500
TZOFFSETTO:-0600
DTSTART:20191103T070000
TZNAME:CST
END:STANDARD
END:VTIMEZONE
END:VCALENDAR
