BEGIN:VCALENDAR
VERSION:2.0
PRODID:-//Obstetrics &amp; Gynecology//NONSGML Events//EN
CALSCALE:GREGORIAN
X-ORIGINAL-URL:https://obgyn.wustl.edu/events/
X-WR-CALDESC:Obstetrics &amp; Gynecology - Events
BEGIN:VEVENT
UID:20200407T2123Z-1586294607.7387-EO-10247-1@172.23.128.19
STATUS:CONFIRMED
DTSTAMP:20260420T124329Z
CREATED:20200407T210925Z
LAST-MODIFIED:20200408T181429Z
DTSTART;TZID=America/Chicago:20200214T090000
DTEND;TZID=America/Chicago:20200214T100000
SUMMARY: CRepHS Seminar: Ramkumar Menon\, MS\, PhD
DESCRIPTION: Ramkumar Menon\, MS\, PhD Associate Professor Division of Mate
 rnal Fetal Medicine/Perinatal Research Department of Obstetrics and Gynecol
 ogy University of Texas Medical Branch – Galveston Title: “Maintenance of H
 uman Fetal Membrane Homeostasis by Cyclic Epithelial-Mesenchymal and Mesenc
 hymal-Epithelial Transitions” Host/Lab: Wang
X-ALT-DESC;FMTTYPE=text/html: <p><b>Ramkumar Menon\, MS\, PhD</b><br />Asso
 ciate Professor<br />Division of Maternal Fetal Medicine/Perinatal Research
 <br />Department of Obstetrics and Gynecology<br />University of Texas Medi
 cal Branch - Galveston</p><p><strong>Title: "Maintenance of Human Fetal Mem
 brane Homeostasis by Cyclic Epithelial-Mesenchymal and Mesenchymal-Epitheli
 al Transitions"</strong></p><p>Host/Lab: Wang</p>
CATEGORIES:CRepHS Basic Science Seminars
LOCATION:BJCIH Conference Room 10AB
GEO:38.636692;-90.263454
ORGANIZER;CN="Allison":MAILTO:a.wyrsch@wustl.edu
URL;VALUE=URI:https://obgyn.wustl.edu/events/event/crephs-seminar-ramkumar-
 menon-ms-phd/
END:VEVENT
BEGIN:VTIMEZONE
TZID:America/Chicago
BEGIN:STANDARD
TZOFFSETFROM:-0500
TZOFFSETTO:-0600
DTSTART:20191103T070000
TZNAME:CST
END:STANDARD
END:VTIMEZONE
END:VCALENDAR
