BEGIN:VCALENDAR
VERSION:2.0
PRODID:-//Obstetrics &amp; Gynecology//NONSGML Events//EN
CALSCALE:GREGORIAN
X-ORIGINAL-URL:https://obgyn.wustl.edu/events/
X-WR-CALDESC:Obstetrics &amp; Gynecology - Events
BEGIN:VEVENT
UID:20240919T2222Z-1726784543.3173-EO-32520-1@10.24.106.144
STATUS:CONFIRMED
DTSTAMP:20260424T154007Z
CREATED:20240919T215634Z
LAST-MODIFIED:20240919T215634Z
DTSTART;TZID=America/Chicago:20241206T090000
DTEND;TZID=America/Chicago:20241206T100000
SUMMARY: CRepHS Seminar: Roger Young\, MD\, PhD
DESCRIPTION: Hybrid Request Zoom link » Roger Young\, MD\, PhD Founder and 
 CEO PreTel\, Inc. Title: TBD Host/Lab: Wang and Zhao labs Learn more about 
 Dr. Young’s company here >>
X-ALT-DESC;FMTTYPE=text/html: <p>Hybrid</p><p><a href="mailto:bcaitlyn@wust
 l.edu">Request Zoom link »</a></p><p><strong>Roger Young\, MD\, PhD</strong
 ><br />Founder and CEO<br />PreTel\, Inc.</p><p><strong>Title: TBD</strong>
 </p><p>Host/Lab: Wang and Zhao labs</p><p><a href="https://pretelhealth.com
 /">Learn more about Dr. Young's company here >></a></p>
CATEGORIES:CRepHS Basic Science Seminars,Research
ORGANIZER;CN="Audrey":MAILTO:audreyj@wustl.edu
URL;VALUE=URI:https://obgyn.wustl.edu/events/event/crephs-seminar-roger-you
 ng-md-phd/
END:VEVENT
BEGIN:VTIMEZONE
TZID:America/Chicago
BEGIN:STANDARD
TZOFFSETFROM:-0500
TZOFFSETTO:-0600
DTSTART:20241103T070000
TZNAME:CST
END:STANDARD
END:VTIMEZONE
END:VCALENDAR
