BEGIN:VCALENDAR
VERSION:2.0
PRODID:-//Obstetrics &amp; Gynecology//NONSGML Events//EN
CALSCALE:GREGORIAN
X-ORIGINAL-URL:https://obgyn.wustl.edu/events/
X-WR-CALDESC:Obstetrics &amp; Gynecology - Events
BEGIN:VEVENT
UID:20190118T1238Z-1547815090.5325-EO-8172-1@172.23.128.18
STATUS:CONFIRMED
DTSTAMP:20260424T200155Z
CREATED:20190118T013228Z
LAST-MODIFIED:20190402T145524Z
DTSTART;TZID=America/Chicago:20190405T090000
DTEND;TZID=America/Chicago:20190405T100000
SUMMARY: CRepHS Seminar: Sanjay Ram\, MD
DESCRIPTION: Sanjay Ram\, MD Professor of Medicine Department of Medicine D
 ivision of Infectious Diseases and Immunology University of Massachussetts 
 Medical School Title: “Novel immunotherapeutics against multidrug-resistant
  Neisseria gonorrhoeae” Host/Lab: CWIDR View more information on Dr. Ram’s 
 research »
X-ALT-DESC;FMTTYPE=text/html: <p><span style="color: #800000\;"><strong>San
 jay Ram\, MD</strong></span><br />Professor of Medicine<br />Department of 
 Medicine<br />Division of Infectious Diseases and Immunology<br />Universit
 y of Massachussetts Medical School</p><p><strong>Title: "Novel immunotherap
 eutics against multidrug-resistant Neisseria gonorrhoeae"</strong></p><p>Ho
 st/Lab: CWIDR</p><p><a href="https://profiles.umassmed.edu/display/133603">
 View more information on Dr. Ram's research »</a></p>
CATEGORIES:CRepHS Basic Science Seminars,Visiting Speakers
LOCATION:BJCIH Conference Room 10AB
GEO:38.636692;-90.263454
ORGANIZER;CN="Magdalena":MAILTO:mdnelson@wustl.edu
URL;VALUE=URI:https://obgyn.wustl.edu/events/event/crephs-seminar-sanjay-ra
 m-md/
END:VEVENT
BEGIN:VTIMEZONE
TZID:America/Chicago
BEGIN:DAYLIGHT
TZOFFSETFROM:-0600
TZOFFSETTO:-0500
DTSTART:20190310T080000
TZNAME:CDT
END:DAYLIGHT
END:VTIMEZONE
END:VCALENDAR
