BEGIN:VCALENDAR
VERSION:2.0
PRODID:-//Obstetrics &amp; Gynecology//NONSGML Events//EN
CALSCALE:GREGORIAN
X-ORIGINAL-URL:https://obgyn.wustl.edu/events/
X-WR-CALDESC:Obstetrics &amp; Gynecology - Events
BEGIN:VEVENT
UID:20250115T1630Z-1736958641.2088-EO-33038-1@10.24.106.144
STATUS:CONFIRMED
DTSTAMP:20260423T062626Z
CREATED:20250115T161541Z
LAST-MODIFIED:20250115T161541Z
DTSTART;TZID=America/Chicago:20250117T090000
DTEND;TZID=America/Chicago:20250117T100000
RRULE:FREQ=WEEKLY;INTERVAL=1;BYDAY=FR;UNTIL=20250530T140000Z
EXDATE;TZID=America/Chicago:20250328T090000,20250502T090000,20250509T090000,20250523T090000
SUMMARY: CRepHS Seminar Series
DESCRIPTION: The CRepHS Seminar Series is a weekly hybrid lecture offered t
 hroughout the academic year. Speakers range from invited external speakers 
 from other universities and industry to WashU faculty from other department
 s and trainees from within CRepHS. Hybrid lecture Request Zoom link » View 
 Detailed Schedule >>
X-ALT-DESC;FMTTYPE=text/html: <p>The CRepHS Seminar Series is a weekly hybr
 id lecture offered throughout the academic year. Speakers range from invite
 d external speakers from other universities and industry to WashU faculty f
 rom other departments and trainees from within CRepHS.</p><p>Hybrid lecture
 </p><p><a href="mailto:audreyj@wustl.edu">Request Zoom link »</a></p><p><a 
 href="https://reproductivesciences.wustl.edu/app/uploads/2025/01/CRepHS-Sem
 inar-Series-2024-2025-Schedule.pdf">View Detailed Schedule >></a></p>
CATEGORIES:CRepHS Basic Science Seminars,Research
LOCATION:BJCIH Conference Room 10AB
GEO:38.636692;-90.263454
ORGANIZER;CN="Audrey":MAILTO:audreyj@wustl.edu
URL;VALUE=URI:https://obgyn.wustl.edu/events/event/crephs-seminar-series-2/
END:VEVENT
BEGIN:VTIMEZONE
TZID:America/Chicago
BEGIN:STANDARD
TZOFFSETFROM:-0500
TZOFFSETTO:-0600
DTSTART:20241103T070000
TZNAME:CST
END:STANDARD
BEGIN:DAYLIGHT
TZOFFSETFROM:-0600
TZOFFSETTO:-0500
DTSTART:20250309T080000
TZNAME:CDT
END:DAYLIGHT
END:VTIMEZONE
END:VCALENDAR
