BEGIN:VCALENDAR
VERSION:2.0
PRODID:-//Obstetrics &amp; Gynecology//NONSGML Events//EN
CALSCALE:GREGORIAN
X-ORIGINAL-URL:https://obgyn.wustl.edu/events/
X-WR-CALDESC:Obstetrics &amp; Gynecology - Events
BEGIN:VEVENT
UID:20260223T1656Z-1771865788.061-EO-35187-1@10.73.3.221
STATUS:CONFIRMED
DTSTAMP:20260424T150127Z
CREATED:20260223T164732Z
LAST-MODIFIED:20260223T164943Z
DTSTART;TZID=America/Chicago:20251114T090000
DTEND;TZID=America/Chicago:20251114T100000
RRULE:FREQ=WEEKLY;INTERVAL=1;BYDAY=FR;UNTIL=20260220T150000Z
EXDATE;TZID=America/Chicago:20251128T090000,20251226T090000,20260102T090000
SUMMARY: CRepHS Seminar Series
DESCRIPTION: Request Zoom link »
X-ALT-DESC;FMTTYPE=text/html: <p><a href="mailto:patriciar@wustl.edu">Reque
 st Zoom link »</a></p>
CATEGORIES:CRepHS Basic Science Seminars,Research
LOCATION:BJCIH Conference Room 10AB
GEO:38.636692;-90.263454
ORGANIZER;CN="Audrey":MAILTO:audreyj@wustl.edu
URL;VALUE=URI:https://obgyn.wustl.edu/events/event/crephs-seminar-series-3/
END:VEVENT
BEGIN:VTIMEZONE
TZID:America/Chicago
BEGIN:STANDARD
TZOFFSETFROM:-0500
TZOFFSETTO:-0600
DTSTART:20251102T070000
TZNAME:CST
END:STANDARD
END:VTIMEZONE
END:VCALENDAR
