BEGIN:VCALENDAR
VERSION:2.0
PRODID:-//Obstetrics &amp; Gynecology//NONSGML Events//EN
CALSCALE:GREGORIAN
X-ORIGINAL-URL:https://obgyn.wustl.edu/events/
X-WR-CALDESC:Obstetrics &amp; Gynecology - Events
BEGIN:VEVENT
UID:20180914T1536Z-1536939395.4447-EO-7174-1@172.20.65.30
STATUS:CONFIRMED
DTSTAMP:20260422T221115Z
CREATED:20180914T150817Z
LAST-MODIFIED:20181005T132340Z
DTSTART;TZID=America/Chicago:20181005T090000
DTEND;TZID=America/Chicago:20181005T100000
SUMMARY: CRepHS Seminar: Yao Chen\, PhD
DESCRIPTION: Yao Chen\, PhD Assistant Professor Department of Neuroscience 
 Washington University School of Medicine Title: “Unexpected Lessons on Neur
 omodulator Acting from Imaging Molecular Signals”  Host/Lab: Santi View mor
 e information on Dr. Chen’s research »
X-ALT-DESC;FMTTYPE=text/html: <p><span style="color: #800000\;"><strong>Yao
  Chen\, PhD</strong></span><br />Assistant Professor<br />Department of Neu
 roscience<br />Washington University School of Medicine</p><p>Title: <stron
 g>"Unexpected Lessons on Neuromodulator Acting from Imaging Molecular Signa
 ls" </strong></p><p>Host/Lab: Santi</p><p><a href="http://neurosci.wustl.ed
 u/People/Faculty/Yao-Chen">View more information on Dr. Chen's research »</
 a></p>
CATEGORIES:CRepHS Basic Science Seminars
LOCATION:BJCIH Conference Room 10AB
GEO:38.636692;-90.263454
ORGANIZER;CN="Magdalena":MAILTO:mdnelson@wustl.edu
URL;VALUE=URI:https://obgyn.wustl.edu/events/event/crephs-seminar-tbn-2/
END:VEVENT
BEGIN:VTIMEZONE
TZID:America/Chicago
BEGIN:DAYLIGHT
TZOFFSETFROM:-0600
TZOFFSETTO:-0500
DTSTART:20180311T080000
TZNAME:CDT
END:DAYLIGHT
END:VTIMEZONE
END:VCALENDAR
