BEGIN:VCALENDAR
VERSION:2.0
PRODID:-//Obstetrics &amp; Gynecology//NONSGML Events//EN
CALSCALE:GREGORIAN
X-ORIGINAL-URL:https://obgyn.wustl.edu/events/
X-WR-CALDESC:Obstetrics &amp; Gynecology - Events
BEGIN:VEVENT
UID:20180320T0044Z-1521506665.6617-EO-5494-1@172.20.65.30
STATUS:CONFIRMED
DTSTAMP:20260422T113240Z
CREATED:20180319T154854Z
LAST-MODIFIED:20180501T160827Z
DTSTART;TZID=America/Chicago:20180504T090000
DTEND;TZID=America/Chicago:20180504T100000
SUMMARY: CRepHS Seminar: Sangappa Chadchan\, PhD
DESCRIPTION: Sangappa Chadchan\, PhD Postdoctoral Research Associate Depart
 ment of Ob/Gyn Center for Reproductive Health Sciences Washington Universit
 y in St. Louis Title: “Gut microbiota drives endometriosis disease progress
 ion: A possible role for Bacteroides ovatus” Host/Lab: Kommagani View more 
 information on Dr. Kommagani’s research »
X-ALT-DESC;FMTTYPE=text/html: <p><span style="color: #800000\;"><b>Sangappa
  Chadchan\, PhD<br /></b></span>Postdoctoral Research Associate<br />Depart
 ment of Ob/Gyn<br />Center for Reproductive Health Sciences<br />Washington
  University in St. Louis</p><p><strong>Title: "Gut microbiota drives endome
 triosis disease progression: A possible role for Bacteroides ovatus"</stron
 g></p><p>Host/Lab: Kommagani</p><p><a href="https://reproductivesciences.wu
 stl.edu/laboratories/kommagani-lab/">View more information on Dr. Kommagani
 's research »</a></p>
CATEGORIES:CRepHS Basic Science Seminars
LOCATION:BJCIH Conference Room 10AB
GEO:38.636692;-90.263454
ORGANIZER;CN="Magdalena":MAILTO:mdnelson@wustl.edu
URL;VALUE=URI:https://obgyn.wustl.edu/events/event/crephs-seminar-tbn/
END:VEVENT
BEGIN:VTIMEZONE
TZID:America/Chicago
BEGIN:DAYLIGHT
TZOFFSETFROM:-0600
TZOFFSETTO:-0500
DTSTART:20180311T080000
TZNAME:CDT
END:DAYLIGHT
END:VTIMEZONE
END:VCALENDAR
