BEGIN:VCALENDAR
VERSION:2.0
PRODID:-//Obstetrics &amp; Gynecology//NONSGML Events//EN
CALSCALE:GREGORIAN
X-ORIGINAL-URL:https://obgyn.wustl.edu/events/
X-WR-CALDESC:Obstetrics &amp; Gynecology - Events
BEGIN:VEVENT
UID:20190923T2057Z-1569272234.9265-EO-9547-1@172.23.128.18
STATUS:CONFIRMED
DTSTAMP:20260424T200154Z
CREATED:20190923T205436Z
LAST-MODIFIED:20191004T164825Z
DTSTART;TZID=America/Chicago:20191018T090000
DTEND;TZID=America/Chicago:20191018T100000
SUMMARY: CRepHS Seminar: Tracy Burger
DESCRIPTION: Tracy Burger Clinical Research Division Manager Department of 
 Obstetrics and Gynecology Washington University Title: “An Introduction to 
 the Division of Clinical Research” Host/Lab: CRepHS View more information o
 n CRepHS research »
X-ALT-DESC;FMTTYPE=text/html: <p><span style="color: #800000"><strong>Tracy
  Burger</strong></span><br />Clinical Research Division Manager<br />Depart
 ment of Obstetrics and Gynecology<br />Washington University</p><p>Title: <
 em><strong>“An Introduction to the Division of Clinical Research”</strong><
 /em></p><p>Host/Lab: CRepHS</p><p><a href="https://reproductivesciences.wus
 tl.edu/">View more information on CRepHS research »</a></p>
CATEGORIES:CRepHS Basic Science Seminars
LOCATION:BJCIH Conference Room 10AB
GEO:38.636692;-90.263454
ORGANIZER;CN="Allison":MAILTO:a.wyrsch@wustl.edu
URL;VALUE=URI:https://obgyn.wustl.edu/events/event/crephs-seminar-tracy-bur
 ger-2/
END:VEVENT
BEGIN:VTIMEZONE
TZID:America/Chicago
BEGIN:DAYLIGHT
TZOFFSETFROM:-0600
TZOFFSETTO:-0500
DTSTART:20190310T080000
TZNAME:CDT
END:DAYLIGHT
END:VTIMEZONE
END:VCALENDAR
