BEGIN:VCALENDAR
VERSION:2.0
PRODID:-//Obstetrics &amp; Gynecology//NONSGML Events//EN
CALSCALE:GREGORIAN
X-ORIGINAL-URL:https://obgyn.wustl.edu/events/
X-WR-CALDESC:Obstetrics &amp; Gynecology - Events
BEGIN:VEVENT
UID:20220916T2000Z-1663358408.471-EO-19360-1@172.23.128.19
STATUS:CONFIRMED
DTSTAMP:20260422T001426Z
CREATED:20220916T195645Z
LAST-MODIFIED:20220916T195645Z
DTSTART;TZID=America/Chicago:20221028T090000
DTEND;TZID=America/Chicago:20221028T100000
SUMMARY: CRepHS Seminar: Violeta Serra\, PhD
DESCRIPTION: Online Register for Zoom link » Violeta Serra\, PhD Group Lead
 er\, Miguel Servet Program Researcher Experimental Therapeutics Group Precl
 inical and Translational Program Vall D’Hebron Institute of Oncology (Barce
 lona\, Spain)   Title: “Advances using Functional HRD to Identify PARP Inhi
 bitor Sensitive Tumors” Host/Lab: Mullen View more information on Dr. Serra
 ’s research »
X-ALT-DESC;FMTTYPE=text/html: <p>Online</p><p><a href="https://www.eventbri
 te.com/e/406449219557">Register for Zoom link »</a></p><p><b>Violeta Serra\
 , PhD </b><br />Group Leader\, Miguel Servet Program Researcher<br />Experi
 mental Therapeutics Group<br />Preclinical and Translational Program<br />V
 all D'Hebron Institute of Oncology (Barcelona\, Spain)</p><p> </p><p><stron
 g>Title: “Advances using Functional HRD to Identify PARP Inhibitor Sensitiv
 e Tumors”</strong></p><p>Host/Lab: Mullen</p><p><a href="https://vhio.net/b
 iosketch-violeta-serra/">View more information on Dr. Serra’s research »</a
 ></p>
CATEGORIES:CRepHS Basic Science Seminars
LOCATION:Online
GEO:0.000000;0.000000
ORGANIZER;CN="Allison":MAILTO:a.wyrsch@wustl.edu
URL;VALUE=URI:https://obgyn.wustl.edu/events/event/crephs-seminar-violeta-s
 erra-phd/
END:VEVENT
BEGIN:VTIMEZONE
TZID:America/Chicago
BEGIN:DAYLIGHT
TZOFFSETFROM:-0600
TZOFFSETTO:-0500
DTSTART:20220313T080000
TZNAME:CDT
END:DAYLIGHT
END:VTIMEZONE
END:VCALENDAR
