BEGIN:VCALENDAR
VERSION:2.0
PRODID:-//Obstetrics &amp; Gynecology//NONSGML Events//EN
CALSCALE:GREGORIAN
X-ORIGINAL-URL:https://obgyn.wustl.edu/events/
X-WR-CALDESC:Obstetrics &amp; Gynecology - Events
BEGIN:VEVENT
UID:20240919T2146Z-1726782397.1567-EO-32517-1@10.24.106.144
STATUS:CONFIRMED
DTSTAMP:20260424T200050Z
CREATED:20240919T214459Z
LAST-MODIFIED:20240919T214459Z
DTSTART;TZID=America/Chicago:20241108T090000
DTEND;TZID=America/Chicago:20241108T100000
SUMMARY: CRepHS Seminar: Yong Wang\, PhD
DESCRIPTION: Hybrid Request Zoom link » Yong Wang\, PhD Professor Departmen
 t of Obstetrics and Gynecology Washington University in St. Louis Title: TB
 D Host/Lab: Wang
X-ALT-DESC;FMTTYPE=text/html: <p>Hybrid</p><p><a href="mailto:bcaitlyn@wust
 l.edu">Request Zoom link »</a></p><p><strong>Yong Wang\, PhD</strong><br />
 Professor<br />Department of Obstetrics and Gynecology<br />Washington Univ
 ersity in St. Louis</p><p><strong>Title: TBD</strong></p><p>Host/Lab: Wang<
 /p>
CATEGORIES:CRepHS Basic Science Seminars,Research
LOCATION:BJCIH Conference Room 10AB
GEO:38.636692;-90.263454
ORGANIZER;CN="Audrey":MAILTO:audreyj@wustl.edu
URL;VALUE=URI:https://obgyn.wustl.edu/events/event/crephs-seminar-yong-wang
 -phd/
END:VEVENT
BEGIN:VTIMEZONE
TZID:America/Chicago
BEGIN:STANDARD
TZOFFSETFROM:-0500
TZOFFSETTO:-0600
DTSTART:20241103T070000
TZNAME:CST
END:STANDARD
END:VTIMEZONE
END:VCALENDAR
