BEGIN:VCALENDAR
VERSION:2.0
PRODID:-//Obstetrics &amp; Gynecology//NONSGML Events//EN
CALSCALE:GREGORIAN
X-ORIGINAL-URL:https://obgyn.wustl.edu/events/
X-WR-CALDESC:Obstetrics &amp; Gynecology - Events
BEGIN:VEVENT
UID:20210217T2235Z-1613601340.1736-EO-8860-1@172.23.128.18
STATUS:CONFIRMED
DTSTAMP:20260417T233335Z
CREATED:20221215T194440Z
LAST-MODIFIED:20221215T194440Z
DTSTART;TZID=America/Chicago:20210304T150000
DTEND;TZID=America/Chicago:20210304T160000
SUMMARY: Diversity in the Engineering Professoriate
DESCRIPTION: Join us for a virtual seminar series on topics related to race
  and science\, technology\, engineering and math (STEM) education. Register
  Here
X-ALT-DESC;FMTTYPE=text/html: <p>Join us for a virtual seminar series on to
 pics related to race and science\, technology\, engineering and math (STEM)
  education.</p><p><a href="https://wustl.zoom.us/webinar/register/WN_8u1rT1
 JAQEKKgFW3H4XCjw">Register Here</a></p>
ORGANIZER;CN="Marcy":MAILTO:marcylivingston@wustl.edu
URL;VALUE=URI:https://obgyn.wustl.edu/events/event/diversity-in-the-enginee
 ring-professoriate/
END:VEVENT
BEGIN:VTIMEZONE
TZID:America/Chicago
BEGIN:STANDARD
TZOFFSETFROM:-0500
TZOFFSETTO:-0600
DTSTART:20201101T070000
TZNAME:CST
END:STANDARD
END:VTIMEZONE
END:VCALENDAR
