BEGIN:VCALENDAR
VERSION:2.0
PRODID:-//Obstetrics &amp; Gynecology//NONSGML Events//EN
CALSCALE:GREGORIAN
X-ORIGINAL-URL:https://obgyn.wustl.edu/events/
X-WR-CALDESC:Obstetrics &amp; Gynecology - Events
BEGIN:VEVENT
UID:20220920T1638Z-1663691928.4397-EO-48946-1@172.23.128.19
STATUS:CONFIRMED
DTSTAMP:20260422T223423Z
CREATED:20221215T194509Z
LAST-MODIFIED:20221215T194509Z
DTSTART;TZID=America/Chicago:20220919T113000
DTEND;TZID=America/Chicago:20220919T130000
SUMMARY: Diversity Week: Keynote Featuring Wesley Hamilton
DESCRIPTION: Learn about and register for this event on the BJC HealthCare 
 Diversity\, Equity and Inclusion website:Keynote Featuring Wesley Hamilton\
 , founder of Disabled But Not Really » Thank you for joining the Offices of
  Diversity\, Equity and Inclusion at BJC HealthCare and Washington Universi
 ty School of Medicine for our 2022 Diversity Week celebration: Belonging is
  Intentional. […]
X-ALT-DESC;FMTTYPE=text/html: <p>Learn about and register for this event on
  the BJC HealthCare Diversity\, Equity and Inclusion website:<br /><a href=
 "https://bjc.sharepoint.com/sites/DEI/_layouts/15/Event.aspx?ListGuid=afc58
 cf2-3b38-44b6-ba4d-b91f3a6b8314&ItemId=30">Keynote Featuring Wesley Hamilto
 n\, founder of Disabled But Not Really »</a></p><p>Thank you for joining th
 e Offices of Diversity\, Equity and Inclusion at BJC HealthCare and Washing
 ton University School of Medicine for our 2022 Diversity Week celebration: 
 Belonging is Intentional.</p><p>We define belonging as the feeling of safet
 y and support when the people we care for and partner with have a sense of 
 acceptance\, inclusion and identity. While "belonging" is often described a
 s a feeling of an individual\, it is also the summation of intentional effo
 rts by organizations through policies\, programs and processes that create 
 and maintain an environment where individuals can bring their authentic sel
 ves to work.</p><p>Each Diversity Week event is designed to reinforce what 
 we hold to be true — that your voice matters\, and you belong here.</p>
ORGANIZER;CN="Marcy":MAILTO:marcylivingston@wustl.edu
URL;VALUE=URI:https://obgyn.wustl.edu/events/event/diversity-week-keynote-f
 eaturing-wesley-hamilton/
END:VEVENT
BEGIN:VTIMEZONE
TZID:America/Chicago
BEGIN:DAYLIGHT
TZOFFSETFROM:-0600
TZOFFSETTO:-0500
DTSTART:20220313T080000
TZNAME:CDT
END:DAYLIGHT
END:VTIMEZONE
END:VCALENDAR
