BEGIN:VCALENDAR
VERSION:2.0
PRODID:-//Obstetrics &amp; Gynecology//NONSGML Events//EN
CALSCALE:GREGORIAN
X-ORIGINAL-URL:https://obgyn.wustl.edu/events/
X-WR-CALDESC:Obstetrics &amp; Gynecology - Events
BEGIN:VEVENT
UID:20201030T0102Z-1604019743.0914-EO-7619-1@172.23.128.18
STATUS:CONFIRMED
DTSTAMP:20260424T142610Z
CREATED:20221215T194436Z
LAST-MODIFIED:20221215T194436Z
DTSTART;TZID=America/Chicago:20201116T100000
DTEND;TZID=America/Chicago:20201116T110000
SUMMARY: Diversity Week Leadership Panel
DESCRIPTION: At this panel discussion\, leaders from each Washington Univer
 sity Medical Campus institution will discuss diversity\, equity and inclusi
 on. All 2020 Diversity Week events will be virtual. Register for and watch 
 this event on the BJC website:Diversity Week Leadership Panel »  
X-ALT-DESC;FMTTYPE=text/html: <p>At this panel discussion\, leaders from ea
 ch Washington University Medical Campus institution will discuss diversity\
 , equity and inclusion.</p><p>All <a href="https://diversity.med.wustl.edu/
 diversity-week-2020/">2020 Diversity Week</a> events will be virtual.</p><p
 ><strong>Register for and watch this event on the BJC website:</strong><br 
 /><a href="https://www.bjc.org/Our-BJC-Values/Diversity-Week/Leadership"><s
 trong>Diversity Week Leadership Panel »</strong></a></p><p> </p>
LOCATION:Zoom (Virtual)
GEO:38.635102;-90.262792
ORGANIZER;CN="Marcy":MAILTO:marcylivingston@wustl.edu
URL;VALUE=URI:https://obgyn.wustl.edu/events/event/diversity-week-leadershi
 p-panel/
END:VEVENT
BEGIN:VTIMEZONE
TZID:America/Chicago
BEGIN:STANDARD
TZOFFSETFROM:-0500
TZOFFSETTO:-0600
DTSTART:20201101T070000
TZNAME:CST
END:STANDARD
END:VTIMEZONE
END:VCALENDAR
