BEGIN:VCALENDAR
VERSION:2.0
PRODID:-//Obstetrics &amp; Gynecology//NONSGML Events//EN
CALSCALE:GREGORIAN
X-ORIGINAL-URL:https://obgyn.wustl.edu/events/
X-WR-CALDESC:Obstetrics &amp; Gynecology - Events
BEGIN:VEVENT
UID:20220920T1523Z-1663687426.9076-EO-48943-1@172.23.128.19
STATUS:CONFIRMED
DTSTAMP:20260423T062619Z
CREATED:20221215T194509Z
LAST-MODIFIED:20221215T194509Z
DTSTART;TZID=America/Chicago:20220921T113000
DTEND;TZID=America/Chicago:20220921T130000
SUMMARY: Diversity Week: Panel Discussion – Creating Belonging Together
DESCRIPTION: This event is open to the public. Learn about and register for
  this event on the BJC HealthCare Diversity\, Equity and Inclusion website:
 Panel Discussion – Creating Belonging Together » Panelists include: Dawn Gi
 pson (she/her)\, Director of DEI Policy and Programming at Centene Dewitt C
 ampbell (he/him)\, Program Director at The National Conference for Communit
 y and Justice (NCCJ) of Metropolitan […]
X-ALT-DESC;FMTTYPE=text/html: <p><strong>This event is open to the public. 
 </strong></p><p>Learn about and register for this event on the BJC HealthCa
 re Diversity\, Equity and Inclusion website:<br /><a href="https://bjc.shar
 epoint.com/sites/DEI/_layouts/15/Event.aspx?ListGuid=afc58cf2-3b38-44b6-ba4
 d-b91f3a6b8314&ItemId=31">Panel Discussion - Creating Belonging Together »<
 /a></p><p data-gtm-vis-has-fired-758200_1015="1">Panelists include:</p><ul>
 <li><strong>Dawn Gipson </strong>(she/her)\, Director of DEI Policy and Pro
 gramming at Centene</li><li><strong>Dewitt Campbell </strong>(he/him)\, Pro
 gram Director at The National Conference for Community and Justice (NCCJ) o
 f Metropolitan St. Louis</li><li><strong>Kristin Mosley </strong>(she/her)\
 , Director of Diversity\, Equity\, Inclusion and Belonging at St. Louis CIT
 Y SC</li><li><strong>Schron Jackson </strong>(she/her)\, Director of Commun
 ity Engagement and Customer Care at Schnucks</li><li><strong>Steve Parks</s
 trong> (he/him)\, Director of Programs at Diversity Awareness Partnership (
 DAP)</li></ul><hr /><p>Thank you for joining the Offices of Diversity\, Equ
 ity and Inclusion at BJC HealthCare and Washington University School of Med
 icine for our 2022 Diversity Week celebration: Belonging is Intentional.</p
 ><p>We define belonging as the feeling of safety and support when the peopl
 e we care for and partner with have a sense of acceptance\, inclusion and i
 dentity. While "belonging" is often described as a feeling of an individual
 \, it is also the summation of intentional efforts by organizations through
  policies\, programs and processes that create and maintain an environment 
 where individuals can bring their authentic selves to work.</p><p>Each Dive
 rsity Week event is designed to reinforce what we hold to be true — that yo
 ur voice matters\, and you belong here.</p>
ORGANIZER;CN="Marcy":MAILTO:marcylivingston@wustl.edu
URL;VALUE=URI:https://obgyn.wustl.edu/events/event/diversity-week-panel-dis
 cussion-creating-belonging-together/
END:VEVENT
BEGIN:VTIMEZONE
TZID:America/Chicago
BEGIN:DAYLIGHT
TZOFFSETFROM:-0600
TZOFFSETTO:-0500
DTSTART:20220313T080000
TZNAME:CDT
END:DAYLIGHT
END:VTIMEZONE
END:VCALENDAR
