BEGIN:VCALENDAR
VERSION:2.0
PRODID:-//Obstetrics &amp; Gynecology//NONSGML Events//EN
CALSCALE:GREGORIAN
X-ORIGINAL-URL:https://obgyn.wustl.edu/events/
X-WR-CALDESC:Obstetrics &amp; Gynecology - Events
BEGIN:VEVENT
UID:20230203T2103Z-1675458239.3174-EO-27251-1@172.23.128.18
STATUS:CONFIRMED
DTSTAMP:20260424T050212Z
CREATED:20230203T210104Z
LAST-MODIFIED:20230203T210104Z
DTSTART;TZID=America/Chicago:20230214T153000
DTEND;TZID=America/Chicago:20230214T170000
SUMMARY: Effective Presentations (Clinical Research Training Center)
DESCRIPTION: Speaker:  Tom De Fer\, MD\, FACP Chief\, Division of General M
 edicine Carol & Jerome T. Loeb Professor of Medicine Associate Dean for Med
 ical Student Education This seminar is part of the CRTC Career Development 
 Seminar Series. The Career Development Seminar Series offers periodic works
 hops and presentations open to all trainees\, faculty and staff on professi
 onal development\, best […]
X-ALT-DESC;FMTTYPE=text/html: <p><strong>Speaker:  Tom De Fer\, MD\, FACP</
 strong></p><ul><li>Chief\, Division of General Medicine</li><li>Carol & Jer
 ome T. Loeb Professor of Medicine</li><li>Associate Dean for Medical Studen
 t Education</li></ul><p>This seminar is part of the<strong> <a href="https:
 //crtc.wustl.edu/resources/workshops-seminars/">CRTC Career Development Sem
 inar Series</a></strong>. The Career Development Seminar Series offers peri
 odic workshops and presentations open to all trainees\, faculty and staff o
 n professional development\, best practices\, resources and guidelines pert
 aining to research.</p><p>This seminar is co-sponsored by The Clinical Rese
 arch Training Center\, Office of Faculty Development – Department of Medici
 ne\, IDEASatDOM\, and Goldfarb School of Nursing.</p><ul><li>In Person – Mo
 ore Auditorium</li><li>To register for a zoom link\, contact Aisha Davis at
  <a href="mailto:aishaydavis@wustl.edu" target="_blank" rel="noopener noref
 errer" data-auth="NotApplicable" data-safelink="true" data-linkindex="10">a
 ishaydavis@wustl.edu</a></li></ul>
CATEGORIES:IDEA2,WUSM
ORGANIZER;CN="Allison":MAILTO:a.wyrsch@wustl.edu
URL;VALUE=URI:https://obgyn.wustl.edu/events/event/effective-presentations-
 clinical-research-training-center/
END:VEVENT
BEGIN:VTIMEZONE
TZID:America/Chicago
BEGIN:STANDARD
TZOFFSETFROM:-0500
TZOFFSETTO:-0600
DTSTART:20221106T070000
TZNAME:CST
END:STANDARD
END:VTIMEZONE
END:VCALENDAR
