BEGIN:VCALENDAR
VERSION:2.0
PRODID:-//Obstetrics &amp; Gynecology//NONSGML Events//EN
CALSCALE:GREGORIAN
X-ORIGINAL-URL:https://obgyn.wustl.edu/events/
X-WR-CALDESC:Obstetrics &amp; Gynecology - Events
BEGIN:VEVENT
UID:20240731T2315Z-1722467747.8451-EO-32114-1@10.24.106.144
STATUS:CONFIRMED
DTSTAMP:20260424T200203Z
CREATED:20240731T204801Z
LAST-MODIFIED:20240731T204801Z
DTSTART;TZID=America/Chicago:20241120T080000
DTEND;TZID=America/Chicago:20241120T100000
SUMMARY: Faculty Retreat – NO GR or PDS
DESCRIPTION: Faculty Retreat – NO GR or PDS
X-ALT-DESC;FMTTYPE=text/html: <p>Faculty Retreat - NO GR or PDS</p>
CATEGORIES:Grand Rounds,Professional Development Series
ORGANIZER;CN="Allison":MAILTO:a.wyrsch@wustl.edu
URL;VALUE=URI:https://obgyn.wustl.edu/events/event/faculty-retreat-no-gr-or
 -pds/
END:VEVENT
BEGIN:VTIMEZONE
TZID:America/Chicago
BEGIN:STANDARD
TZOFFSETFROM:-0500
TZOFFSETTO:-0600
DTSTART:20241103T070000
TZNAME:CST
END:STANDARD
END:VTIMEZONE
END:VCALENDAR
