BEGIN:VCALENDAR
VERSION:2.0
PRODID:-//Obstetrics &amp; Gynecology//NONSGML Events//EN
CALSCALE:GREGORIAN
X-ORIGINAL-URL:https://obgyn.wustl.edu/events/
X-WR-CALDESC:Obstetrics &amp; Gynecology - Events
BEGIN:VEVENT
UID:20190315T1648Z-1552668481.9752-EO-8374-1@172.23.128.19
STATUS:CONFIRMED
DTSTAMP:20260417T233230Z
CREATED:20190315T164237Z
LAST-MODIFIED:20190315T164237Z
DTSTART;TZID=America/Chicago:20190227T070000
DTEND;TZID=America/Chicago:20190227T080000
SUMMARY: Grand Rounds
DESCRIPTION: “Beyond the CHOICE Project: What’s New in the World of LARC?” 
 Amy Addante\, MD Family Planning Fellow Washington University in St Louis D
 epartment of Obstetrics and Gynecology Educational Objectives:  Review (Lon
 g-Acting Reversible Contraception) LARC methods currently available in the 
 U.S.\; discuss recent label changes to LARC in the U.S.\; discuss strategie
 s for difficult LARC placement […]
X-ALT-DESC;FMTTYPE=text/html: <table width="738"><tbody><tr><td width="672"
 ><p><strong>“Beyond the CHOICE Project: What’s New in the World of LARC?”</
 strong></p><p><strong>Amy Addante\, MD</strong><br />Family Planning Fellow
 <br />Washington University in St Louis<br />Department of Obstetrics and G
 ynecology</p><p><strong>Educational Objectives:  </strong>Review (Long-Acti
 ng Reversible Contraception) LARC methods currently available in the U.S.\;
  discuss recent label changes to LARC in the U.S.\; discuss strategies for 
 difficult LARC placement and removal.</td></tr></tbody></table><p>MUST SIGN
  IN BY 7:15 AM TO RECEIVE CONTINUING MEDICAL EDUCATION CREDIT</p><p><a clas
 s="wusm-button" href="http://wustl.adobeconnect.com/obgyn2017">SIMULTANEOUS
  TELECAST (no CMEs)</a></p><p><em>Additional information: contact Patti Sas
 se in the Department of OB/GYN at (314) 362-1016</em></p>
CATEGORIES:Grand Rounds
LOCATION:Wohl Clinic - Clopton Auditorium (ground floor)
GEO:38.636995;-90.264349
ORGANIZER;CN="Marcy":MAILTO:marcylivingston@wustl.edu
URL;VALUE=URI:https://obgyn.wustl.edu/events/event/grand-rounds-10/
END:VEVENT
BEGIN:VTIMEZONE
TZID:America/Chicago
BEGIN:STANDARD
TZOFFSETFROM:-0500
TZOFFSETTO:-0600
DTSTART:20181104T070000
TZNAME:CST
END:STANDARD
END:VTIMEZONE
END:VCALENDAR
