BEGIN:VCALENDAR
VERSION:2.0
PRODID:-//Obstetrics &amp; Gynecology//NONSGML Events//EN
CALSCALE:GREGORIAN
X-ORIGINAL-URL:https://obgyn.wustl.edu/events/
X-WR-CALDESC:Obstetrics &amp; Gynecology - Events
BEGIN:VEVENT
UID:20190315T1648Z-1552668481.9863-EO-8380-1@172.23.128.19
STATUS:CONFIRMED
DTSTAMP:20260417T233234Z
CREATED:20190315T164611Z
LAST-MODIFIED:20190408T142845Z
DTSTART;TZID=America/Chicago:20190313T070000
DTEND;TZID=America/Chicago:20190313T080000
SUMMARY: Grand Rounds
DESCRIPTION: “Postpartum: Obstetrics’ Last Frontier?”  Adam K. Lewkowitz\, 
 MD\, MPHS\, FACOG Fellow\, Division of Maternal Fetal Medicine Department o
 f Obstetrics and Gynecology Washington University School of Medicine  Educa
 tional Objectives: Become Familiar Past and Current Guidelines in Postpartu
 m Care\; Review the Impact of Health Equity on Postpartum Mental Health & B
 reastfeeding Outcomes\; Review Population-based Data on Psychiatric […]
X-ALT-DESC;FMTTYPE=text/html: <table cellspacing="0" cellpadding="0"><tbody
 ><tr><td valign="top"><p><b>“Postpartum: Obstetrics' Last Frontier?”<span c
 lass="Apple-converted-space"> </span></b></p><p><strong>Adam K. Lewkowitz\,
  MD\, MPHS\, FACOG<span class="Apple-converted-space"><br /></span></strong
 >Fellow\, Division of Maternal Fetal Medicine<span class="Apple-converted-s
 pace"><br /></span>Department of Obstetrics and Gynecology<span class="Appl
 e-converted-space"><br /></span>Washington University School of Medicine<sp
 an class="Apple-converted-space"> </span></p><p><b>Educational Objectives: 
 </b>Become Familiar Past and Current Guidelines in Postpartum Care\; Review
  the Impact of Health Equity on Postpartum Mental Health & Breastfeeding Ou
 tcomes\; Review Population-based Data on Psychiatric outcomes\; Learn how t
 echnology can improve breastfeeding outcomes.</td></tr></tbody></table><hr 
 /><p>MUST SIGN IN BY 7:15 AM TO RECEIVE CONTINUING MEDICAL EDUCATION CREDIT
 </p><p><a class="wusm-button" href="http://wustl.adobeconnect.com/obgyn2017
 ">SIMULTANEOUS TELECAST (no CMEs)</a></p><p><em>Additional information: con
 tact Patti Sasse in the Department of OB/GYN at (314) 362-1016</em></p>
CATEGORIES:Grand Rounds
LOCATION:Wohl Clinic - Clopton Auditorium (ground floor)
GEO:38.636995;-90.264349
ORGANIZER;CN="Marcy":MAILTO:marcylivingston@wustl.edu
URL;VALUE=URI:https://obgyn.wustl.edu/events/event/grand-rounds-11/
END:VEVENT
BEGIN:VTIMEZONE
TZID:America/Chicago
BEGIN:DAYLIGHT
TZOFFSETFROM:-0600
TZOFFSETTO:-0500
DTSTART:20190310T080000
TZNAME:CDT
END:DAYLIGHT
END:VTIMEZONE
END:VCALENDAR
